BEGIN:VCALENDAR
VERSION:2.0
PRODID:-//Behm&#039;s Auction - ECPv6.15.17//NONSGML v1.0//EN
CALSCALE:GREGORIAN
METHOD:PUBLISH
X-ORIGINAL-URL:https://behmsauction.com
X-WR-CALDESC:Events for Behm&#039;s Auction
REFRESH-INTERVAL;VALUE=DURATION:PT1H
X-Robots-Tag:noindex
X-PUBLISHED-TTL:PT1H
BEGIN:VTIMEZONE
TZID:UTC
BEGIN:STANDARD
TZOFFSETFROM:+0000
TZOFFSETTO:+0000
TZNAME:UTC
DTSTART:20240101T000000
END:STANDARD
END:VTIMEZONE
BEGIN:VEVENT
DTSTART;TZID=UTC:20250703T080000
DTEND;TZID=UTC:20250717T180000
DTSTAMP:20260424T022407
CREATED:20250707T010524Z
LAST-MODIFIED:20250707T010606Z
UID:10000005-1751529600-1752775200@behmsauction.com
SUMMARY:Collectibles- Comics- Glassware- Toys
DESCRIPTION:THE 1ST LOT WILL BEGIN TO CLOSE ON Thursday JULY 17th 2025 BEGINNING WITH LOT 1 AT 6 PM WITH A SOFT CLOSING – ” ANY ITEM THAT RECEIVES A BID WITHIN ONE MINUTE OF CLOSING WILL EXTEND BIDDING FOR AN ADDITIONAL MINUTE. AS SUCH\, A LOT MAY REMAIN OPEN FOR BIDDING WHILE OTHER LOTS LISTED AFTER IT WILL CONTINUE TO CLOSE UNLESS BIDS ARE PLACED ON THEM AS OTHER LOTS CONTINUE TO CLOSE. \nPUBLIC VIEWING OF THE CATALOGUED LOTS IS Tuesday JULY 15TH from 2 pm to 4 pm at the home located at 37 Willow Lane\, Bethlehem section of Wheeling\, Wv.\n		\n		\n			\n				\n			\n			\n				\n			\n			\n				\n			\n			\n				\n			\n			\n				\n			\n			\n				\n			\n			\n				\n			\n			\n				\n			\n			\n				\n			\n			\n				\n			\n			\n				\n			\n			\n				\n			\n			\n				\n			\n			\n				\n			\n			\n				\n			\n			\n				\n			\n			\n				\n			\n			\n				\n			\n			\n				\n			\n			\n				\n			\n			\n				\n			\n			\n				\n			\n			\n				\n			\n			\n				\n			\n			\n				\n			\n			\n				\n			\n			\n		\nCatalogues lots include Graded & Ungraded Comics- Mad Magazines- Various lots of Automobile Dealer Brochures \, Ads\, Owners Manuals & more- Sports Collectibles\, Wrestling Figures\, Nascar items\, Jeff Gordon & Pepsi Collectibles- Glassware – Depression Green Candle holders- Glass Flowers & Other pcs.- Matchbox\, Hot Wheels Diecast – Numerous Catalogued Pepsi related lots – Vtg. Casino Chips – Action Figures- Dealer Promo Corvette Model Cars – Camel Advertising Thermometer- WW II Paper items- Books- Tabletop Display Cases – Action Figures and many other Catalogued lots . \nTHE 1ST LOT WILL BEGIN TO CLOSE ON Thursday JULY 17th 2025 BEGINNING WITH LOT 1 AT 6 PM WITH A SOFT CLOSING – ” ANY ITEM THAT RECEIVES A BID WITHIN ONE MINUTE OF CLOSING WILL EXTEND BIDDING FOR AN ADDITIONAL MINUTE. AS SUCH\, A LOT MAY REMAIN OPEN FOR BIDDING WHILE OTHER LOTS LISTED AFTER IT WILL CONTINUE TO CLOSE UNLESS BIDS ARE PLACED ON THEM AS OTHER LOTS CONTINUE TO CLOSE. \n1 day Pickup only is Friday July 18th 2025 from 7 am to 12 Noon at the home located at 37 Willow Lane\, Bethlehem section of Wheeling\, Wv. Shipping is available on selected lots that are indicated as SHIPPING AVAILABLE. \nDIRECTIONS: FROM I 470 take the Bethlehem Exit. From Ohio \, turn left off of the exit- From Pa. Turn right – onto West Bethlehem Blvd. – make a Right onto Chapel Road- Continue straight onto Willow Lane watch for signs \nTo Register & Bid go to BEHMSONLINEAUCTION.HIBID.COM OR BEHMS ONLINE AUCTION FACEBOOK PAGE – OR EMAIL BEHMSONLINE@GMAIL.COM
URL:https://behmsauction.com/auction/collectibles-comics-glassware-toys/
LOCATION:Bethlehem\, 37 Willow Lane\, Bethlehem\, WV\, 26003\, United States
ATTACH;FMTTYPE=image/webp:https://behmsauction.com/wp-content/uploads/2025/07/img.webp
ORGANIZER;CN="Behm's Auction and Real Estate":MAILTO:behmsonline@gmail.com
END:VEVENT
BEGIN:VEVENT
DTSTART;TZID=UTC:20250703T080000
DTEND;TZID=UTC:20250724T180000
DTSTAMP:20260424T022407
CREATED:20250719T195253Z
LAST-MODIFIED:20250719T210815Z
UID:10000006-1751529600-1753380000@behmsauction.com
SUMMARY:Online with Seasonal\, Elvis\, Furniture and Glassware
DESCRIPTION:THE 1ST LOT WILL BEGIN TO CLOSE ON Thursday July 24th BEGINNING WITH LOT 1 AT 6 PM WITH A SOFT CLOSING – ” ANY ITEM THAT RECEIVES A BID WITHIN ONE MINUTE OF CLOSING WILL EXTEND BIDDING FOR AN ADDITIONAL MINUTE. AS SUCH\, A LOT MAY REMAIN OPEN FOR BIDDING WHILE OTHER LOTS LISTED AFTER IT WILL CONTINUE TO CLOSE UNLESS BIDS ARE PLACED ON THEM AS OTHER LOTS CONTINUE TO CLOSE. \nONLINE ONLY AUCTION – Consisting of the following catalogued lots.- Home Decor items – Acorn Stair Chair Lift – CD’s & DVD’s – Bedroom Furniture- – Small Kitchen Appliances – Elvis Collectibles- Viking Blue Stretch Vase & other Glassware items – Boyds & other Stuffed bears-Several pcs. Cast Iron- Small Hand & Power Tools – Cabela’s Meat Grinder- NIB Keurig -Stamps- Totes of Seasonal Decor – Treadle Sewing Machine- Material- Dry Goods- Linen – and other Catalogued Lots . \nPREVIEW OF CATALOGUED LOTS – Tuesday July 22 from 2 pm to 4 pm at 258 Lang Drive\, New Martinsville \, Wv. \nDIRECTIONS – FROM ROUTE 2 NORTH / SOUTH – TURN LEFT/ RIGHT AT LIGHT AT RUSSELL AVE. – RIGHT ONTO S. BRIDGE STREET – LEFT ONTO LANG DRIVE. \nTHE 1ST LOT WILL BEGIN TO CLOSE ON Thursday July 24th BEGINNING WITH LOT 1 AT 6 PM WITH A SOFT CLOSING – ” ANY ITEM THAT RECEIVES A BID WITHIN ONE MINUTE OF CLOSING WILL EXTEND BIDDING FOR AN ADDITIONAL MINUTE. AS SUCH\, A LOT MAY REMAIN OPEN FOR BIDDING WHILE OTHER LOTS LISTED AFTER IT WILL CONTINUE TO CLOSE UNLESS BIDS ARE PLACED ON THEM AS OTHER LOTS CONTINUE TO CLOSE. \n1 day Pickup is Friday July 25th from 8 am to 1 Pm at 258 Lang Drive\, New Martinsville \, Wv. \nDIRECTIONS: DIRECTIONS – FROM ROUTE 2 NORTH / SOUTH – TURN LEFT/ RIGHT AT LIGHT AT RUSSELL AVE. – RIGHT ONTO S. BRIDGE STREET – LEFT ONTO LANG DRIVE. \nFOR MORE INFORMATION GO TO BEHMSONLINEAUCTION.HIBID.COM \, BEHMS ONLINE AUCTION FACEBOOK PAGE – OR EMAIL BEHMSONLINE@GMAIL.COM
URL:https://behmsauction.com/auction/online-with-seasonal-elvis-furniture-and-glassware/
LOCATION:New Martinsville\, 258 Lang Drive\, New Martinsville\, WV\, 26155\, United States
ORGANIZER;CN="Behm's Auction and Real Estate":MAILTO:behmsonline@gmail.com
END:VEVENT
END:VCALENDAR