BEGIN:VCALENDAR
VERSION:2.0
PRODID:-//Behm&#039;s Auction - ECPv6.15.17//NONSGML v1.0//EN
CALSCALE:GREGORIAN
METHOD:PUBLISH
X-WR-CALNAME:Behm&#039;s Auction
X-ORIGINAL-URL:https://behmsauction.com
X-WR-CALDESC:Events for Behm&#039;s Auction
REFRESH-INTERVAL;VALUE=DURATION:PT1H
X-Robots-Tag:noindex
X-PUBLISHED-TTL:PT1H
BEGIN:VTIMEZONE
TZID:UTC
BEGIN:STANDARD
TZOFFSETFROM:+0000
TZOFFSETTO:+0000
TZNAME:UTC
DTSTART:20240101T000000
END:STANDARD
END:VTIMEZONE
BEGIN:VEVENT
DTSTART;TZID=UTC:20250804T080000
DTEND;TZID=UTC:20250904T180000
DTSTAMP:20260424T011912
CREATED:20250904T122245Z
LAST-MODIFIED:20250904T122300Z
UID:10000011-1754294400-1757008800@behmsauction.com
SUMMARY:Online Estate Auction
DESCRIPTION:GERALDINE VARNER ESTATE AUCTION \nINTERNET ONLY  \n1148 JAKES RUN ROAD\, FAIRVIEW\, WV \n  \nPREVIEW: SEPT 2 from 2-4 PM \nAUCTION CLOSES: THURSDAY SEPT 4 at 6:00 PM with a soft closing of lots in a timed fashion. \nPICK UP: Sept 5 from 8:00 AM to 1:00 PM  \nOnline bidding:  behmsonlineauction.hibid.com \nTO VIEW THE ENTIRE CATALOG\, PICTURES & MORE INFORMATION REGISTER AT BEHMSONLINEAUCTION.HIBID.COM  \n  \nOVER 500+ LOTS Including the following: Household items – Florida style Light colored living room Furniture-Bedroom Furniture- Dining Room Furniture-Seasonal items- Coal Mining Stickers & other Related – Canning Jars- Enamel Ware -Stoneware – Pyrex pcs. – Glassware – Jewelry – Cameras- Various cat themed items- Books- Power Tools- Hand Tools- Outdoor items -Gardening Items- Snowblower – Linen & Dry Goods -Collectibles \n1998 Subaru Legacy GT\, 4 Dr. Sedan\, 2.5 Liter\, 4 cyl\, 5 speed\, garage kept. \nFOR MORE INFORMATION: EMAIL BEHMSONLINE@GMAIL.COM OR BEHMS ONLINE AUCTION FACEBOOK PAGE \nBEHM’S AUCTION & REAL ESTATE SERVICES\, LLC \nAuctioneers of Real Estate\, Estates & Personal Property \nJim Behm\, Broker-Auctioneer\, CAI\, CES    WV Lic 942
URL:https://behmsauction.com/auction/online-estate-auction/
LOCATION:Fairview WV\, 1148 Jakes Run Rd\, Fairview\, WV\, 26570\, United States
ORGANIZER;CN="Behm's Auction and Real Estate":MAILTO:behmsonline@gmail.com
END:VEVENT
BEGIN:VEVENT
DTSTART;TZID=UTC:20250827T000000
DTEND;TZID=UTC:20250916T000000
DTSTAMP:20260424T011912
CREATED:20250904T123801Z
LAST-MODIFIED:20250904T131025Z
UID:10000012-1756252800-1757980800@behmsauction.com
SUMMARY:Secured Party Real Estate Auction Wheeling
DESCRIPTION:WEDNESDAY\, SEPT 24 at 10:00 AM  \n39 WARWOOD TERRACE\, WHEELING\, WV \n  \nTHIS PROPERTY WILL BE SOLD BY LIVE AUCTION ON LOCATION AND INTERNET BIDDING WILL BE OFFERED \nOnline bidding:  behmsonlineauction.hibid.com \nTO VIEW THE ENTIRE CATALOG\, PICTURES & MORE INFORMATION REGISTER AT BEHMSONLINEAUCTION.HIBID.COM  \nWE HAVE BEEN COMMISSIONED TO SELL THE FOLLOWING DESCRIBED REAL ESTATE: \nLARGE 7 ROOM HOME:  3 BEDROOMS- LIVING ROOM- KITCHEN- FULL BATHROOM-FULL BASEMENT- ONE CAR GARAGE WITH OFF-STREET PARKING \n  \nTerms: Posted online. Brokers’ participation welcome.\nBrokers must contact Behm’s Auction & Real Estate for more information. \nFOR MORE INFORMATION AND PICTURES\, PLEASE VISIT:  www.behmsauction.com\,\nwww.auctionzip.com\, www.gotoauction.com\, or Facebook.  \nBEHM’S AUCTION & REAL ESTATE SERVICES\, LLC \nAuctioneers of Real Estate\, Estates & Personal Property \nJim Behm\, Broker-Auctioneer\, CAI\, CES    WV Lic 942
URL:https://behmsauction.com/auction/secured-party-real-estate-auction/
LOCATION:WV
END:VEVENT
END:VCALENDAR