BEGIN:VCALENDAR
VERSION:2.0
PRODID:-//Behm&#039;s Auction - ECPv6.15.17//NONSGML v1.0//EN
CALSCALE:GREGORIAN
METHOD:PUBLISH
X-WR-CALNAME:Behm&#039;s Auction
X-ORIGINAL-URL:https://behmsauction.com
X-WR-CALDESC:Events for Behm&#039;s Auction
REFRESH-INTERVAL;VALUE=DURATION:PT1H
X-Robots-Tag:noindex
X-PUBLISHED-TTL:PT1H
BEGIN:VTIMEZONE
TZID:UTC
BEGIN:STANDARD
TZOFFSETFROM:+0000
TZOFFSETTO:+0000
TZNAME:UTC
DTSTART:20240101T000000
END:STANDARD
END:VTIMEZONE
BEGIN:VEVENT
DTSTART;TZID=UTC:20251015T080000
DTEND;TZID=UTC:20251030T180000
DTSTAMP:20260423T230003
CREATED:20251016T023651Z
LAST-MODIFIED:20251016T025011Z
UID:10000022-1760515200-1761847200@behmsauction.com
SUMMARY:High Quality Collectibles Auction
DESCRIPTION:HIGH QUALITY COLLECTIBLES AUCTION \nINTERNET ONLY \n37 WILLOW LANE\, WHEELING\, WV \n  \nPREVIEW: OCT 28 from 2-4 PM \nAUCTION CLOSES: THURSDAY OCT 30 at 6:00 PM with a soft closing of lots in a timed fashion. \nPICK UP: Oct 31 from 7:00 AM to 12:00 PM Noon \nOnline bidding:  behmsonlineauction.hibid.com \nTO VIEW THE ENTIRE CATALOG\, PICTURES & MORE INFORMATION REGISTER AT BEHMSONLINEAUCTION.HIBID.COM  \nCOLLECTOR TOYS- SPORT CARDS- ANTIQUES- POTTERY- COLLECTIBLES \n\n		\n		\n			\n				\n			\n			\n				\n			\n			\n				\n			\n			\n				\n			\n			\n				\n			\n			\n				\n			\n			\n				\n			\n			\n				\n			\n			\n				\n			\n			\n				\n			\n			\n				\n			\n			\n				\n			\n			\n				\n			\n			\n				\n			\n			\n				\n			\n			\n				\n			\n			\n				\n			\n			\n				\n			\n			\n				\n			\n			\n				\n			\n			\n				\n			\n			\n				\n			\n			\n		\n\n                    Catalogued lots include the following : Mail Pouch Wall Thermometer – Stoneware Harvest Jugs – Planters Peanuts / Mr. Peanut Collectibles – Royal Crown & other Metal advertising signs –  Hull Blushing Apple Cookie Jar – Vtg. Corner Cabinet – Dark Wood Modern Bookcase – Wood Cradle – Loose action figures – Glass Candy pieces – Silver Coins – Woodworking Tools- Several Wood Hand Carved Ducks – Vtg. Comic Books – Waterford Crystal Pittsburgh NFL Football – Green Depression Glass -Glass Fruit & Vegetables – Blue Mason Jars – Duncan MIller Clear & Red Glass Swans – Various Glass compotes- Carnival Glass pcs. – Modern Blue Fiesta Dinnerware & Glasses – Window Air Conditioners – Wrestling & other Sports Cards- Vtg. Coca Cola & 7 Up Glasses – Roseville Pottery Vases – Vtg. Coleman Liquid Fuel Heater – Vtg. Ticket Stubs- Vtg. Van Halen Album & Tour T shirt – Marx Tiller Fire Truck\, Army Truck w/ Searchlight Trailer w/ box & other Marx toys- Friction\, Windup & Battery Powered toys – Milk Bottles and Many others \n  \nBEHM’S AUCTION & REAL ESTATE SERVICES\, LLC \nAuctioneers of Real Estate\, Estates & Personal Property \nJim Behm\, Broker-Auctioneer\, CAI\, CES    WV Lic 942
URL:https://behmsauction.com/auction/high-quality-collectibles-auction/
LOCATION:37 WILLOW LANE\, WHEELING\, WV\, 37 Willow lane\, Wheeling\, WV\, 26003\, United States
ORGANIZER;CN="Behm's Auction and Real Estate":MAILTO:behmsonline@gmail.com
END:VEVENT
BEGIN:VEVENT
DTSTART;TZID=UTC:20251024T080000
DTEND;TZID=UTC:20251106T180000
DTSTAMP:20260423T230003
CREATED:20251024T030452Z
LAST-MODIFIED:20251024T030520Z
UID:10000023-1761292800-1762452000@behmsauction.com
SUMMARY:Donna Whipkey Estate
DESCRIPTION:DONNA WHIPKEY ESTATE \nINTERNET ONLY \n320 WAYMANS RIDGE\, MOUNDSVILLE\, WV \n  \nPREVIEW: NOV 4 from 2-4 PM \nAUCTION CLOSES: THURSDAY NOV 6 at 6:00 PM with a soft closing of lots in a timed fashion. \nPICK UP: Nov 7 from 7:00 AM to 1:00 PM Noon \nOnline bidding:  behmsonlineauction.hibid.com \nTO VIEW THE ENTIRE CATALOG\, PICTURES & MORE INFORMATION REGISTER AT BEHMSONLINEAUCTION.HIBID.COM  \nTHIS WILL BE THE FIRST OF SEVERAL AUCTIONS FOR THE WHIPKEY ESTATE FROM THIS SUPER CLEAN HOME LOCATED JUST OUTSIDE OF MOUNDSVILLE. IN ADDITION\, WE WILL BE OFFERING THE REAL ESTATE AT A LATER DATE. \nOVER 400+ CATALOGUED LOTS: Fenton \, Fostoria & other Glassware – Hen on Nest Collection – Furniture – Accent Pieces – Collector Bells- Seasonal Items- Electronics- Household & other Catalogued lots. \n  \nBEHM’S AUCTION & REAL ESTATE SERVICES\, LLC \nAuctioneers of Real Estate\, Estates & Personal Property \nJim Behm\, Broker-Auctioneer\, CAI\, CES    WV Lic 942
URL:https://behmsauction.com/auction/donna-whipkey-estate/
LOCATION:320 Waymans Ridge\, 320 Waymans Ridge\, Moundsville\, WV\, 26041\, United States
ORGANIZER;CN="Behm's Auction and Real Estate":MAILTO:behmsonline@gmail.com
END:VEVENT
BEGIN:VEVENT
DTSTART;TZID=UTC:20251025T100000
DTEND;TZID=UTC:20251025T100000
DTSTAMP:20260423T230003
CREATED:20250929T133007Z
LAST-MODIFIED:20250929T133121Z
UID:10000019-1761386400-1761386400@behmsauction.com
SUMMARY:Real Estate Fairview WV
DESCRIPTION:GERALDINE VARNER REAL ESTATE AUCTION \n1148 JAKES RUN ROAD\, FAIRVIEW\, WV \nSATURDAY\, OCT 25 AT 10:00 AM \nThis property will be sold by LIVE auction with internet bidding also offered. \nOnline bidding:  behmsonlineauction.hibid.com \nTO VIEW THE ENTIRE DESCRIPTION\, PICTURES & MORE INFORMATION REGISTER AT BEHMSONLINEAUCTION.HIBID.COM  \nTHIS HOME HAS A COUNTRY SETTING AND HAS BEEN WELL CARED FOR AND IS READY FOR A NEW FAMILY TO TAKE OVER. \nTHIS RANCH-STYLE\, TOTAL ELECTRIC HOME OFFERS 3 BEDROOMS\, 2 BATH \, LIVING ROOM\, FAMILY ROOM\, EAT IN KITCHEN WITH MODERN SIDE BY SIDE REFRIGERATOR\, ELECTRIC FLAT TOP RANGE AND AMPLE CABINET SPACE. SEPARATE LAUNDRY AREA WITH MODERN WASHER & ELECTRIC DRYER. EACH ROOM HAS A CEILING FAN AND SEPARATE HEAT CONTROL. \nTHE EXTERIOR OF THE HOME HAS AN ENCLOSED BACK PORCH\, LARGE FENCED IN YARD\, 2 LARGE WOOD STORAGE BUILDINGS\, SEPARATE FENCED IN GARDEN AREA\, SPACIOUS 2 CAR GARAGE WHICH HAS A SMALL SHOP AREA AND ATTIC STORAGE. \nFOR MORE INFORMATION: EMAIL BEHMSONLINE@GMAIL.COM OR BEHMS ONLINE AUCTION FACEBOOK PAGE \nBEHM’S AUCTION & REAL ESTATE SERVICES\, LLC \nAuctioneers of Real Estate\, Estates & Personal Property \nJim Behm\, Broker-Auctioneer\, CAI\, CES    WV Lic 942
URL:https://behmsauction.com/auction/real-estate-fairview-wv/
LOCATION:Fairview WV\, 1148 Jakes Run Rd\, Fairview\, WV\, 26570\, United States
ORGANIZER;CN="Behm's Auction and Real Estate":MAILTO:behmsonline@gmail.com
END:VEVENT
END:VCALENDAR