BEGIN:VCALENDAR
VERSION:2.0
PRODID:-//Behm&#039;s Auction - ECPv6.15.17//NONSGML v1.0//EN
CALSCALE:GREGORIAN
METHOD:PUBLISH
X-WR-CALNAME:Behm&#039;s Auction
X-ORIGINAL-URL:https://behmsauction.com
X-WR-CALDESC:Events for Behm&#039;s Auction
REFRESH-INTERVAL;VALUE=DURATION:PT1H
X-Robots-Tag:noindex
X-PUBLISHED-TTL:PT1H
BEGIN:VTIMEZONE
TZID:UTC
BEGIN:STANDARD
TZOFFSETFROM:+0000
TZOFFSETTO:+0000
TZNAME:UTC
DTSTART:20240101T000000
END:STANDARD
END:VTIMEZONE
BEGIN:VEVENT
DTSTART;TZID=UTC:20251202T080000
DTEND;TZID=UTC:20251211T180000
DTSTAMP:20260423T201956
CREATED:20251202T031534Z
LAST-MODIFIED:20251202T031709Z
UID:10000026-1764662400-1765476000@behmsauction.com
SUMMARY:“HIGH QUALITY” COLLECTIBLES AUCTION
DESCRIPTION:INTERNET ONLY  \n37 Willow Lane\, Wheeling\, WV \n  \nPREVIEW: DEC 9 from 2-4 PM \nAUCTION CLOSES: THURSDAY DEC 11 at 6:00 PM with a soft closing of lots in a timed fashion. \nPICK UP: Dec 12 from 7:00 AM to 12:00 PM Noon \nOnline bidding:  behmsonlineauction.hibid.com \nTO VIEW THE ENTIRE CATALOG\, PICTURES & MORE INFORMATION REGISTER AT BEHMSONLINEAUCTION.HIBID.COM  \nLARGE PRE CHRISTMAS ONLINE AUCTION – LONGABERGER BASKETS- LENOX – VERA BRADLEY – PARTY LITE- ANTIQUES-  \nCatalogued lots include the following: Numerous Longaberger Baskets\, Candles\, Pottery & Iron Displays- New Geneva Pottery Snowmen- Antique School Desk- Wood Ironing Boards\, Antique Marcy 5 Drawer File Cabinet- Marcy Index Card File Boxes- Vtg. Sears Floor Model Silvertone AM FM Phono Stereo-Antique 1 Drawer Arts & Crafts Library Table – Partylite Items- Vera Bradley Purses & other items-Numerous Lenox Figurines\, Ornaments (several new in the boxes) – Hallmark Keepsake Ornaments and Many other Catalogued lots. \n  \nBEHM’S AUCTION & REAL ESTATE SERVICES\, LLC \nAuctioneers of Real Estate\, Estates & Personal Property \nJim Behm\, Broker-Auctioneer\, CAI\, CES    WV Lic 942
URL:https://behmsauction.com/auction/high-quality-collectibles-auction-2/
LOCATION:37 WILLOW LANE\, WHEELING\, WV\, 37 Willow lane\, Wheeling\, WV\, 26003\, United States
ORGANIZER;CN="Behm's Auction and Real Estate":MAILTO:behmsonline@gmail.com
END:VEVENT
END:VCALENDAR