BEGIN:VCALENDAR
VERSION:2.0
PRODID:-//Behm&#039;s Auction - ECPv6.15.17//NONSGML v1.0//EN
CALSCALE:GREGORIAN
METHOD:PUBLISH
X-WR-CALNAME:Behm&#039;s Auction
X-ORIGINAL-URL:https://behmsauction.com
X-WR-CALDESC:Events for Behm&#039;s Auction
REFRESH-INTERVAL;VALUE=DURATION:PT1H
X-Robots-Tag:noindex
X-PUBLISHED-TTL:PT1H
BEGIN:VTIMEZONE
TZID:UTC
BEGIN:STANDARD
TZOFFSETFROM:+0000
TZOFFSETTO:+0000
TZNAME:UTC
DTSTART:20240101T000000
END:STANDARD
END:VTIMEZONE
BEGIN:VEVENT
DTSTART;TZID=UTC:20251208T080000
DTEND;TZID=UTC:20260115T180000
DTSTAMP:20260423T185847
CREATED:20251211T030601Z
LAST-MODIFIED:20260121T150845Z
UID:10000027-1765180800-1768500000@behmsauction.com
SUMMARY:
DESCRIPTION:LARGE ESTATE AUCTION \nINTERNET ONLY  \n311 BIG GRAVE CREEK RD\, MOUNDSVILLE\, WV \n  \nPREVIEW: DEC 16 from 2-4 PM \nAUCTION CLOSES: THURSDAY DEC 18 at 6:00 PM with a soft closing of lots in a timed fashion. \nPICK UP: Dec 5 from 7:00 AM to 1:00 PM  \nOnline bidding:  behmsonlineauction.hibid.com \nTO VIEW THE ENTIRE CATALOG\, PICTURES & MORE INFORMATION REGISTER AT BEHMSONLINEAUCTION.HIBID.COM  \nLARGE COLLECTION OF COSTUME JEWELRY-LOCAL AND REGIONAL GLASS WARE ITEMS -LINENS-SCARVES-EMBROIDERY ITEMS-SEVERAL SMALL AND SHOW CASE COLLECTIBLES-FURNITURE- NEW AND OLDER CHRISTMAS DÉCOR-HOME THEATER SURROUND SOUND -FOOTBALL JERSEYS- HOUSEHOLD-INDUSTRIAL ELECTRICAL BOXES-PASLODE NAILERS WITH CASES-SEVERAL BOXES OF GLASSWARE \n  \nBEHM’S AUCTION & REAL ESTATE SERVICES\, LLC \nAuctioneers of Real Estate\, Estates & Personal Property \nJim Behm\, Broker-Auctioneer\, CAI\, CES     \nLicensed and Bonded In Favor of the State of Ohio
URL:https://behmsauction.com/auction/896/
LOCATION:311 Big Grave Creek\, 311 Big Grave Creek Rd\, Moundsville\, 26041\, United States
ORGANIZER;CN="Behm's Auction and Real Estate":MAILTO:behmsonline@gmail.com
END:VEVENT
BEGIN:VEVENT
DTSTART;TZID=UTC:20260101T080000
DTEND;TZID=UTC:20260115T180000
DTSTAMP:20260423T185847
CREATED:20260105T041824Z
LAST-MODIFIED:20260121T150812Z
UID:10000028-1767254400-1768500000@behmsauction.com
SUMMARY:Estate Auction - Coins Guns & Jewelry
DESCRIPTION:LARGE ESTATE AUCTION \nINTERNET ONLY  \n311 BIG GRAVE CREEK ROAD\, MOUNDSVILLE\, WV \nPREVIEW: JAN 13 from 2-4 PM \nAUCTION CLOSES: THURSDAY JAN 15 at 6:00 PM with a soft closing of lots in a timed fashion.  \nOnline bidding:  behmsonlineauction.hibid.com \nTO VIEW THE ENTIRE CATALOG\, PICTURES & MORE INFORMATION REGISTER AT BEHMSONLINEAUCTION.HIBID.COM  \nTHIS AUCTION IS FROM THE HOME OF THE LATE DONNA P. ISSOS FROM WHEELING AND ADDITION FROM AN OLDER OHIO VALLY COLLECTOR THAT HAS PASSED AWAY AND BEHMS AUCTION AND REAL ESTATE SERVICES HAS BEEN DIRECTED TO SELL THE FOLLOWING ITEMS WITH ADDITIONS: \nLARGE COIN COLLECTION- GUNS – COSTUME JEWELRY – LINEN ITEMS – AND COLLECTIBLES \nSome of the over 400 Catalogued Lots include: Silver Coins (Quarters\, Dimes\, Peace & Morgan Dollars\, Kennedy\, Franklin & Walking Liberty Half Dollars)\, Silver Certificates\, $ 2.00 bills\, Pennies\, Eisenhower Dollars\, and others.  Handguns\, Rifles\, Shotguns\, & Holsters – Estate / Costume Jewelry – Table Linen- Crocheted Doilies & Linen- Scarves- Hankies- & other pcs. – Glassware – Box Lots – Nascar Items – NIB Air Purifiers – Paper Shredder – 3D Printer and other items \n  \nBEHM’S AUCTION & REAL ESTATE SERVICES\, LLC \nAuctioneers of Real Estate\, Estates & Personal Property \nJim Behm\, Broker-Auctioneer\, CAI\, CES   \nWV Lic 942  
URL:https://behmsauction.com/auction/large-estate-auction/
LOCATION:311 Big Grave Creek\, 311 Big Grave Creek Rd\, Moundsville\, 26041\, United States
ORGANIZER;CN="Behm's Auction and Real Estate":MAILTO:behmsonline@gmail.com
END:VEVENT
BEGIN:VEVENT
DTSTART;TZID=UTC:20260101T080000
DTEND;TZID=UTC:20260205T120000
DTSTAMP:20260423T185848
CREATED:20260105T043152Z
LAST-MODIFIED:20260121T144025Z
UID:10000029-1767254400-1770292800@behmsauction.com
SUMMARY:Secured Party Real Estate - Mozart
DESCRIPTION:THIS PROPERTY WILL BE SOLD BY LIVE AUCTION ON LOCATION WITH INTERNET BIDDING AVAILABLE. AT BEHMSONLINEAUCTION.HIBID.COM **DOES SELL WITH TRUSTEES CONFIRMATION OF HIGHEST BID PRICE OBTAINED. Bidding Process – Currently open for bidding at behmsonlineauction.hibid.com and will remain open with LIVE / ONSITE BIDDING joining in on Wednesday January 7th 2026 at the property . After the trustee reads the legal specifications\, the HIGHEST online bid will be the opening bid and the bidding process will continue with live and online bidding. The highest bid obtained will be held and at that time the auctioneer will take a brief recess to confer with the trustee to see if the highest bid obtained is acceptable. If the highest bid is not acceptable the auctioneer may come back and reopen the bidding to try and reach the acceptable figure the trustee will accept. If the highest bid is accepted by the trustee\, the high bidder will be required to put down a 10 % deposit for the property. 13% if high bidder is online \n\n\nSECURED PARTY REAL ESTATE AUCTION WEDNESDAY\, JANUARY 7TH AT 12 NOON 60 SCHMULBACH ROAD MOZART SECTION OF WHEELING\, WV THIS PROPERTY WILL BE SOLD BY LIVE AUCTION ON LOCATION WITH INTERNET BIDDING AVAILABLE. AT BEHMSONLINEAUCTION.HIBID.COM **DOES SELL WITH TRUSTEES CONFIRMATION OF HIGHEST BID PRICE OBTAINED. Bidding Process – Currently open for bidding at behmsonlineauction.hibid.com and will remain open with LIVE / ONSITE BIDDING joining in on Wednesday January 7th 2026 at the property . After the trustee reads the legal specifications\, the HIGHEST online bid will be the opening bid and the bidding process will continue with live and online bidding. The highest bid obtained will be held and at that time the auctioneer will take a brief recess to confer with the trustee to see if the highest bid obtained is acceptable. If the highest bid is not acceptable the auctioneer may come back and reopen the bidding to try and reach the acceptable figure the trustee will accept. If the highest bid is accepted by the trustee\, the high bidder will be required to put down a 10 % deposit for the property. 13% if high bidder is online TO VIEW THE ENTIRE CATALOG\, PICTURES & MORE INFORMATION REGISTER AT BEHMSONLINEAUCTION.HIBID.COM  WE HAVE BEEN COMMISSIONED TO SELL THE FOLLOWING DESCRIBED REAL ESTATE: LARGE 5 ROOM HOME: 3 BEDROOMS- LIVING ROOM- KITCHEN- 2.5 BATHROOMS- FULL BASEMENT- COVERED PATIO- LARGE BACK YARD- ONE CAR GARAGE WITH OFF-STREET PARKING Terms: Posted online. Brokers’ participation welcome. THERE IS NO OPEN HOUSE FOR THIS PROPERTY Brokers must contact Behm’s Auction & Real Estate for more information. FOR MORE INFORMATION AND PICTURES\, PLEASE VISIT:  www.behmsauction.com\, www.auctionzip.com\, www.gotoauction.com\, or Facebook. BEHM’S AUCTION & REAL ESTATE SERVICES\, LLC Auctioneers of Real Estate\, Estates & Personal Property Jim Behm\, Broker-Auctioneer\, CAI\, CES    WV Lic 942 304 845 2666
URL:https://behmsauction.com/auction/secured-party-real-estate-mozart/
LOCATION:mozart\, 60 Schmulbach Rd\, Wheeling\, WV\, 26003\, United States
ORGANIZER;CN="Behm's Auction and Real Estate":MAILTO:behmsonline@gmail.com
END:VEVENT
END:VCALENDAR