BEGIN:VCALENDAR
VERSION:2.0
PRODID:-//Behm&#039;s Auction - ECPv6.15.17//NONSGML v1.0//EN
CALSCALE:GREGORIAN
METHOD:PUBLISH
X-WR-CALNAME:Behm&#039;s Auction
X-ORIGINAL-URL:https://behmsauction.com
X-WR-CALDESC:Events for Behm&#039;s Auction
REFRESH-INTERVAL;VALUE=DURATION:PT1H
X-Robots-Tag:noindex
X-PUBLISHED-TTL:PT1H
BEGIN:VTIMEZONE
TZID:UTC
BEGIN:STANDARD
TZOFFSETFROM:+0000
TZOFFSETTO:+0000
TZNAME:UTC
DTSTART:20250101T000000
END:STANDARD
END:VTIMEZONE
BEGIN:VEVENT
DTSTART;TZID=UTC:20260101T080000
DTEND;TZID=UTC:20260205T120000
DTSTAMP:20260423T173907
CREATED:20260105T043152Z
LAST-MODIFIED:20260121T144025Z
UID:10000029-1767254400-1770292800@behmsauction.com
SUMMARY:Secured Party Real Estate - Mozart
DESCRIPTION:THIS PROPERTY WILL BE SOLD BY LIVE AUCTION ON LOCATION WITH INTERNET BIDDING AVAILABLE. AT BEHMSONLINEAUCTION.HIBID.COM **DOES SELL WITH TRUSTEES CONFIRMATION OF HIGHEST BID PRICE OBTAINED. Bidding Process – Currently open for bidding at behmsonlineauction.hibid.com and will remain open with LIVE / ONSITE BIDDING joining in on Wednesday January 7th 2026 at the property . After the trustee reads the legal specifications\, the HIGHEST online bid will be the opening bid and the bidding process will continue with live and online bidding. The highest bid obtained will be held and at that time the auctioneer will take a brief recess to confer with the trustee to see if the highest bid obtained is acceptable. If the highest bid is not acceptable the auctioneer may come back and reopen the bidding to try and reach the acceptable figure the trustee will accept. If the highest bid is accepted by the trustee\, the high bidder will be required to put down a 10 % deposit for the property. 13% if high bidder is online \n\n\nSECURED PARTY REAL ESTATE AUCTION WEDNESDAY\, JANUARY 7TH AT 12 NOON 60 SCHMULBACH ROAD MOZART SECTION OF WHEELING\, WV THIS PROPERTY WILL BE SOLD BY LIVE AUCTION ON LOCATION WITH INTERNET BIDDING AVAILABLE. AT BEHMSONLINEAUCTION.HIBID.COM **DOES SELL WITH TRUSTEES CONFIRMATION OF HIGHEST BID PRICE OBTAINED. Bidding Process – Currently open for bidding at behmsonlineauction.hibid.com and will remain open with LIVE / ONSITE BIDDING joining in on Wednesday January 7th 2026 at the property . After the trustee reads the legal specifications\, the HIGHEST online bid will be the opening bid and the bidding process will continue with live and online bidding. The highest bid obtained will be held and at that time the auctioneer will take a brief recess to confer with the trustee to see if the highest bid obtained is acceptable. If the highest bid is not acceptable the auctioneer may come back and reopen the bidding to try and reach the acceptable figure the trustee will accept. If the highest bid is accepted by the trustee\, the high bidder will be required to put down a 10 % deposit for the property. 13% if high bidder is online TO VIEW THE ENTIRE CATALOG\, PICTURES & MORE INFORMATION REGISTER AT BEHMSONLINEAUCTION.HIBID.COM  WE HAVE BEEN COMMISSIONED TO SELL THE FOLLOWING DESCRIBED REAL ESTATE: LARGE 5 ROOM HOME: 3 BEDROOMS- LIVING ROOM- KITCHEN- 2.5 BATHROOMS- FULL BASEMENT- COVERED PATIO- LARGE BACK YARD- ONE CAR GARAGE WITH OFF-STREET PARKING Terms: Posted online. Brokers’ participation welcome. THERE IS NO OPEN HOUSE FOR THIS PROPERTY Brokers must contact Behm’s Auction & Real Estate for more information. FOR MORE INFORMATION AND PICTURES\, PLEASE VISIT:  www.behmsauction.com\, www.auctionzip.com\, www.gotoauction.com\, or Facebook. BEHM’S AUCTION & REAL ESTATE SERVICES\, LLC Auctioneers of Real Estate\, Estates & Personal Property Jim Behm\, Broker-Auctioneer\, CAI\, CES    WV Lic 942 304 845 2666
URL:https://behmsauction.com/auction/secured-party-real-estate-mozart/
LOCATION:mozart\, 60 Schmulbach Rd\, Wheeling\, WV\, 26003\, United States
ORGANIZER;CN="Behm's Auction and Real Estate":MAILTO:behmsonline@gmail.com
END:VEVENT
BEGIN:VEVENT
DTSTART;TZID=UTC:20260204T080000
DTEND;TZID=UTC:20260312T180000
DTSTAMP:20260423T173907
CREATED:20251123T011408Z
LAST-MODIFIED:20260302T010818Z
UID:10000025-1770192000-1773338400@behmsauction.com
SUMMARY:LOVE ESTATE
DESCRIPTION:BETTY LOVE ESTATE AUCTION \nONLINE ONLY \nST. CLAIRSVILLE\, OHIO \nPREVIEW: MARCH 10 from 2-4 PM \nAUCTION CLOSES: THURSDAY\, MARCH 12 at 6:00 PM with a soft closing of lots in a timed fashion. \nPICK-UP: FRIDAY\, MARCH 13 from 7:00 AM-1:00 PM Online bidding: behmsonlineauction.hibid.com \nNumerous Quilts- Quilt Toppers – Sewing Material & Notions – Various Glassware items – Scarves- Table Linen- Crocheted Doilies- Nic Nacs-Blue Mason Jars & other Canning items – Home Decor items- Books-2 Cuckoo Clocks & Brass Clocks – Bedroom Furniture – Trendle Bed – Twin Beds – Floor Lamps – Stoneware items – Galvanized Buckets – Seasonal – 8′ drop pocket Pool Table & Accessories – Metal Storage Racks & many other catalogued lots \n  \nTO VIEW THE ENTIRE CATALOG\, PICTURES & MORE INFORMATION REGISTER AT BEHMSONLINEAUCTION.HIBID.COM \n  \nBEHM’S AUCTION & REAL ESTATE SERVICES\, LLC \nAuctioneers of Real Estate\, Estates & Personal Property \nJim Behm\, Broker-Auctioneer\, CAI\, CES \nLicensed and Bonded in Favor of the State of Ohio
URL:https://behmsauction.com/auction/love-estate-2-lladros-quilts-jewelry/
LOCATION:St Clairsville\, St Clairsville\, OH\, 43950\, United States
ORGANIZER;CN="Behm's Auction and Real Estate":MAILTO:behmsonline@gmail.com
END:VEVENT
BEGIN:VEVENT
DTSTART;TZID=UTC:20260204T180000
DTEND;TZID=UTC:20260219T180000
DTSTAMP:20260423T173907
CREATED:20260208T143254Z
LAST-MODIFIED:20260208T144310Z
UID:10000031-1770228000-1771524000@behmsauction.com
SUMMARY:Online Estate Auction
DESCRIPTION:LARGE ESTATE AUCTION \nONLINE ONLY  \n311 BIG GRAVE CREEK ROAD\, MOUNDSVILLE\, WV \nPREVIEW: FEB 17 from 2-4 PM \nAUCTION CLOSES: THURSDAY\, FEB 19 at 6:00 PM with a soft closing of lots in a timed fashion.  \nPICK-UP: FRIDAY\, FEB 20 from 8:00 AM-12:00 PM NOON \nOnline bidding:  behmsonlineauction.hibid.com \nStoneware pcs. Wheeling Stenciled 2 Gallon jug\, 3 Stripe small Harvest Jug – 5 x 9 1/2 48 Star American Flag – – Radio Testing Equipment & parts- Glassware- Hoosier style 2 pc. Cabinets – Blue & Clear Mason Jars –  NIB Wall Mirrors –  NOS Tub Surrounds – Tools – Reloading items & gun related items 1/4″ Plywood Sheets –  Pottery Kiln – CB Radios & Accessories – Cream Separator & Parts – NIB dog ramp-NIB Einhell Trimmers – Box Lots – Lawn Sweep- Craftsman Riding mower -Push Plows- NIB Cherry Jewelry Armoire – Pipe Threading items- Proto 3 pc. Rolling Toolbox – Craftsman Rear Tine Tiller- Craftsman Air Compressor – Kick n Go scooter and many more Catalogued lots \nTerms are posted online! \nTO VIEW THE ENTIRE CATALOG\, PICTURES & MORE INFORMATION REGISTER AT BEHMSONLINEAUCTION.HIBID.COM  \n\n		\n		\n			\n				\n			\n			\n				\n			\n			\n				\n			\n			\n				\n			\n			\n				\n			\n			\n				\n			\n			\n				\n			\n			\n				\n			\n			\n				\n			\n			\n				\n			\n			\n				\n			\n			\n				\n			\n			\n				\n			\n			\n				\n			\n			\n				\n			\n			\n				\n			\n			\n				\n			\n			\n				\n			\n			\n				\n			\n			\n				\n			\n			\n				\n			\n			\n				\n			\n			\n				\n			\n			\n				\n			\n		\n\nBEHM’S AUCTION & REAL ESTATE SERVICES\, LLC \nAuctioneers of Real Estate\, Estates & Personal Property \nJim Behm\, Broker-Auctioneer\, CAI\, CES   \nWV Lic 942 
URL:https://behmsauction.com/auction/online-estate-auction-4/
LOCATION:311 Big Grave Creek\, 311 Big Grave Creek Rd\, Moundsville\, 26041\, United States
ORGANIZER;CN="Behm's Auction and Real Estate":MAILTO:behmsonline@gmail.com
END:VEVENT
END:VCALENDAR