BEGIN:VCALENDAR
VERSION:2.0
PRODID:-//Behm&#039;s Auction - ECPv6.15.17//NONSGML v1.0//EN
CALSCALE:GREGORIAN
METHOD:PUBLISH
X-ORIGINAL-URL:https://behmsauction.com
X-WR-CALDESC:Events for Behm&#039;s Auction
REFRESH-INTERVAL;VALUE=DURATION:PT1H
X-Robots-Tag:noindex
X-PUBLISHED-TTL:PT1H
BEGIN:VTIMEZONE
TZID:UTC
BEGIN:STANDARD
TZOFFSETFROM:+0000
TZOFFSETTO:+0000
TZNAME:UTC
DTSTART:20240101T000000
END:STANDARD
END:VTIMEZONE
BEGIN:VEVENT
DTSTART;TZID=UTC:20250602T080000
DTEND;TZID=UTC:20250626T180000
DTSTAMP:20260424T112421
CREATED:20250618T042105Z
LAST-MODIFIED:20250618T052020Z
UID:10000002-1748851200-1750960800@behmsauction.com
SUMMARY:Boyds Bears- Outdoor Items- Costume Jewelry
DESCRIPTION:PREVIEW OF CATALOGUED LOTS – Tuesday June 24th from 2 pm to 4 pm at 258 Lang Drive\, New Martinsville \, Wv. \nTHE 1ST LOT WILL BEGIN TO CLOSE ON Thursday June 26th BEGINNING WITH LOT 1 AT 6 PM WITH A SOFT CLOSING – ” ANY ITEM THAT RECEIVES A BID WITHIN ONE MINUTE OF CLOSING WILL EXTEND BIDDING FOR AN ADDITIONAL MINUTE. AS SUCH\, A LOT MAY REMAIN OPEN FOR BIDDING WHILE OTHER LOTS LISTED AFTER IT WILL CONTINUE TO CLOSE UNLESS BIDS ARE PLACED ON THEM AS OTHER LOTS CONTINUE TO CLOSE. \n\n\nONLINE ONLY AUCTION – Consisting of the following catalogued lots.- TroyBilt Pony 42″ riding mower ( shows limited use ) Yardman riding mower ( not running) – Costume Jewelry – Home Decor items – Acorn Stair Chair Lift – DVD’s – Furniture- Whirlpool Front Load Washer & Electric Dryer – Kitchen Ware- Small Kitchen Appliances – Elvis Collectibles- Viking Orange Stretch Vase & other Glassware items – Boyds Bears – Magnolia 60’s Yearbooks – Outdoor hand tools & related items – Dolls – and other Catalogued Lots .\nPREVIEW OF CATALOGUED LOTS – Tuesday June 24th from 2 pm to 4 pm at 258 Lang Drive\, New Martinsville \, Wv.\n\nDIRECTIONS – FROM ROUTE 2 NORTH / SOUTH – TURN LEFT/ RIGHT AT LIGHT AT RUSSELL AVE. – RIGHT ONTO S. BRIDGE STREET – LEFT ONTO LANG DRIVE.\n\nTHE 1ST LOT WILL BEGIN TO CLOSE ON Thursday June 26th BEGINNING WITH LOT 1 AT 6 PM WITH A SOFT CLOSING – ” ANY ITEM THAT RECEIVES A BID WITHIN ONE MINUTE OF CLOSING WILL EXTEND BIDDING FOR AN ADDITIONAL MINUTE. AS SUCH\, A LOT MAY REMAIN OPEN FOR BIDDING WHILE OTHER LOTS LISTED AFTER IT WILL CONTINUE TO CLOSE UNLESS BIDS ARE PLACED ON THEM AS OTHER LOTS CONTINUE TO CLOSE.\n\n1 day Pickup is Friday June 27th from 8 am to 1 Pm at 258 Lang Drive\, New Martinsville \, Wv. DIRECTIONS:\n\nDIRECTIONS – FROM ROUTE 2 NORTH / SOUTH – TURN LEFT/ RIGHT AT LIGHT AT RUSSELL AVE. – RIGHT ONTO S. BRIDGE STREET – LEFT ONTO LANG DRIVE.\n\nFOR MORE INFORMATION GO TO BEHMSONLINEAUCTION.HIBID.COM \, BEHMS ONLINE AUCTION FACEBOOK PAGE – OR EMAIL BEHMSONLINE@GMAIL.COM
URL:https://behmsauction.com/auction/boyds-bears-outdoor-items-costume-jewelry/
LOCATION:New Martinsville\, 258 Lang Drive\, New Martinsville\, WV\, 26155\, United States
CATEGORIES:Online Auction
ATTACH;FMTTYPE=image/png:https://behmsauction.com/wp-content/uploads/2025/06/NewMartinsville100.png
ORGANIZER;CN="Behm's Auction and Real Estate":MAILTO:behmsonline@gmail.com
END:VEVENT
BEGIN:VEVENT
DTSTART;TZID=UTC:20250605T080000
DTEND;TZID=UTC:20250703T180000
DTSTAMP:20260424T112421
CREATED:20250618T044648Z
LAST-MODIFIED:20250618T044648Z
UID:10000003-1749110400-1751565600@behmsauction.com
SUMMARY:Masontown PA Online Auction
DESCRIPTION:THE 1ST LOT WILL BEGIN TO CLOSE ON Thursday July 3rd   BEGINNING WITH LOT 1  AT 6 PM WITH A SOFT CLOSING – ” ANY ITEM THAT RECEIVES A BID WITHIN ONE MINUTE OF CLOSING WILL EXTEND BIDDING FOR AN ADDITIONAL MINUTE. AS SUCH\, A LOT MAY REMAIN OPEN FOR BIDDING WHILE OTHER LOTS LISTED AFTER IT WILL CONTINUE TO CLOSE UNLESS BIDS ARE PLACED ON THEM AS OTHER LOTS CONTINUE TO CLOSE. \n\n\nONLINE ONLY AUCTION – Consisting of the following catalogued lots.- Household items- Small Kitchen Appliances – Metal Wire Rack Adjustable Shelf Units – Media – Glassware – Window Treatments – Clothing Racks – Seasonal – Pyrex 4 pc Nesting Bowl set – 4Patriots Emergency Meals – Furniture – Canning Items-  Crossman BB Rifle – Plastic Kitchen Ware- Haviland Dinnerware – Sewing items – Patio Table & 4 chairs – 2 Ice Cream Chairs and other catalogued lots.\n\nPREVIEW OF CATALOGUED LOTS – Tuesday July 1st  from 2 pm to 4 pm at 207 North Water St. Masontown \, Pa\n\nDIRECTIONS – From Carmichaels\,Pa- Take Route 21 into Masontown- Turn right onto River Ave.- Proceed on River Ave which turns into W. Church Ave.- Go through the Red Light- Turn Left onto N. Water St. and watch for signs .From Uniontown \, Pa – From Route 21 – Turn onto Route 166 / N. Main St.- Turn Left onto Willard Ave. – Right onto N. Water St. – Watch for signs\n\nTHE 1ST LOT WILL BEGIN TO CLOSE ON Thursday July 3rd   BEGINNING WITH LOT 1  AT 6 PM WITH A SOFT CLOSING – ” ANY ITEM THAT RECEIVES A BID WITHIN ONE MINUTE OF CLOSING WILL EXTEND BIDDING FOR AN ADDITIONAL MINUTE. AS SUCH\, A LOT MAY REMAIN OPEN FOR BIDDING WHILE OTHER LOTS LISTED AFTER IT WILL CONTINUE TO CLOSE UNLESS BIDS ARE PLACED ON THEM AS OTHER LOTS CONTINUE TO CLOSE. 1 day Pickup is Friday  July 4th from 7 am to 12 Pm  at  207 North Water St. Masontown \, Pa\n\nDIRECTIONS – From Carmichaels\, PA- Take Route 21 into Masontown- Turn right onto River Ave.- Proceed on River Ave\, which turns into W. Church Ave.- Go through the Red Light- Turn Left onto N. Water St. and watch for signs.From Uniontown\, Pa – From Route 21 – Turn onto Route 166 / N. Main St.- Turn left onto Willard Ave. – Right onto N. Water St. – Watch for signs. FOR MORE INFORMATION\, GO TO BEHMS ONLINE AUCTION HIBID.COM\, BEHMS ONLINE AUCTION FACEBOOK PAGE – OR EMAIL BEHMSONLINE@GMAIL.COM
URL:https://behmsauction.com/auction/masontown-pa-online-auction/
LOCATION:Masontown PA\, 207 N Water St\, Masontown\, PA\, 15461\, United States
CATEGORIES:Online Auction
ATTACH;FMTTYPE=image/webp:https://behmsauction.com/wp-content/uploads/2025/06/img-35.webp
ORGANIZER;CN="Behm's Auction and Real Estate":MAILTO:behmsonline@gmail.com
END:VEVENT
END:VCALENDAR