BEGIN:VCALENDAR
VERSION:2.0
PRODID:-//Behm&#039;s Auction - ECPv6.15.17//NONSGML v1.0//EN
CALSCALE:GREGORIAN
METHOD:PUBLISH
X-ORIGINAL-URL:https://behmsauction.com
X-WR-CALDESC:Events for Behm&#039;s Auction
REFRESH-INTERVAL;VALUE=DURATION:PT1H
X-Robots-Tag:noindex
X-PUBLISHED-TTL:PT1H
BEGIN:VTIMEZONE
TZID:UTC
BEGIN:STANDARD
TZOFFSETFROM:+0000
TZOFFSETTO:+0000
TZNAME:UTC
DTSTART:20250101T000000
END:STANDARD
END:VTIMEZONE
BEGIN:VEVENT
DTSTART;TZID=UTC:20260425T093000
DTEND;TZID=UTC:20260425T120000
DTSTAMP:20260423T230554
CREATED:20260306T221212Z
LAST-MODIFIED:20260325T211829Z
UID:10000037-1777109400-1777118400@behmsauction.com
SUMMARY:West Alexander Equipment Auction
DESCRIPTION:Greene County Equipment Auction \nLIVE and In PERSON \nApril 25\, beginning at 9:30 AM \nNow Accepting quality consignments \nTractors\, Dozers & Backhoes\, Hay & Forage Equiptment\, Dump Trucks & Road Tractors\, Skid Steers\, Welders & Air Compressors\, 4 Wheelers & Boats\, Cars & Trucks & Vans\, Lawn & Garden Equiptment\, Other Farm & Construction Equiptment \nConsignment check-in\nApril 22 – 12:00-5:00\n April 23  – 9:00-5:00\n April 24  – 9:00-5:00\nItems WILL NOT be accepted on the day of the Sale. \nSee THIS FLYER West Alexander \nA Small Sample of the MANY items that will be on sale includes: \nTractors  \n  \nEquiptment \n  \nCars & Trucks  \n  \nTrailers  \n  \nLawn & Garden \nI understand that I am responsible for FULL PAYMENT TODAY\, April 25\, 2026 for my purchases by cash\, check or certified funds\, at West Alexander Fairgrounds. ITEMS WILL BE PAID FOR BEFORE REMOVAL. Behm’s Auction & Real Estate Services\, LLC is acting as an agent of the seller and therefore is not responsible for the description or condition of items. Owners will make statements regarding their item(s). Sales are “As is” and “Where is.” I am assuming full responsibility for all items charged to my bidder’s number. I understand that some items will be sold with owner confirmation\, and further understand that I must honor the bid placed on the item(s) until the seller confirms or rejects the bid price. Behm’s Auction & Real Estate Services\, LLC is not responsible for theft\, damage\, or loss of item(s) and will not be held liable for any injury or accident that may occur at the location of the auction. Behm’s Auction Service is not responsible for no shows. Pennsylvania 6% sales tax will be charged unless a fully executed sales tax exemption form is completed and signed prior to payment. A 10% Buyer’s Premium will be added to every purchase. ALL ITEMS MUST BE REMOVED FROM West Alexander Fairgrounds April 25\, 2026. In the event that an item is not removed today\, I will be responsible for a service fee for its removal\, which may include trucking\, storage\, and/or clean up. Behm’s Auction & Real Estate Services\, LLC and its employees are NOT responsible for loading and/or any damage that occurs in the process of loading items\, vehicles\, or equipment. Bidding is held outdoors. Be prepared for the weather.
URL:https://behmsauction.com/auction/west-alexander-equipment-auction/
LOCATION:West Alexander Fair\, 116 US-40\, West Alexander\, PA\, 15376\, United States
ORGANIZER;CN="Behm's Auction and Real Estate":MAILTO:behmsonline@gmail.com
END:VEVENT
END:VCALENDAR