BEGIN:VCALENDAR
VERSION:2.0
PRODID:-//Behm&#039;s Auction - ECPv6.15.17//NONSGML v1.0//EN
CALSCALE:GREGORIAN
METHOD:PUBLISH
X-ORIGINAL-URL:https://behmsauction.com
X-WR-CALDESC:Events for Behm&#039;s Auction
REFRESH-INTERVAL;VALUE=DURATION:PT1H
X-Robots-Tag:noindex
X-PUBLISHED-TTL:PT1H
BEGIN:VTIMEZONE
TZID:UTC
BEGIN:STANDARD
TZOFFSETFROM:+0000
TZOFFSETTO:+0000
TZNAME:UTC
DTSTART:20250101T000000
END:STANDARD
END:VTIMEZONE
BEGIN:VEVENT
DTSTART;TZID=UTC:20260415T080000
DTEND;TZID=UTC:20260507T180000
DTSTAMP:20260423T160959
CREATED:20260421T014656Z
LAST-MODIFIED:20260421T014656Z
UID:10000038-1776240000-1778176800@behmsauction.com
SUMMARY:Collectibles Online Auction
DESCRIPTION:HIGH QUALITY COLLECTIBLES AUCTION \nONLINE ONLY  \n37 Willow Lane\, WHEELING\, WV   \nPREVIEW: MAY 5 from 2-4 PM \nAUCTION CLOSES: THURSDAY MAY 7 at 6:00 PM with a soft closing of lots in a timed fashion.  \nPICK-UP: FRIDAY\, MAY 8 from 7:00 AM-1:00 PM  \nOnline bidding:  behmsonlineauction.hibid.com \nCOLLECTIBLE TOYS- AUTOMOBILE DEALER COLLECTIBLES – ANTIQUES-SPORTS COLLECTIBLES – PEPSI RELATED COLLECTIBLES AND LOCAL INTEREST ITEMS    \n  \nNumerous catalogued lots of Pepsi Collectibles- Various  lots of Toys – Action Figures – Pee Wee Herman Playhouse complete – Ghostbusters Collector Case – Various Lots of Automobile Dealer Brochures\, Magazines\,& other Monthly Publications- Corvette Related Items- Sports Cards – Plastic Marx & other Animals- Ohio Clover Leaf Dairy Milk Bottle – Glassware – Vtech Educational toys & many other catalogued lots. \n  \nTO VIEW THE ENTIRE CATALOG\, PICTURES & MORE INFORMATION REGISTER AT BEHMSONLINEAUCTION.HIBID.COM  \n  \nBEHM’S AUCTION & REAL ESTATE SERVICES\, LLC \nAuctioneers of Real Estate\, Estates & Personal Property \nJim Behm\, Broker-Auctioneer\, CAI\, CES   \nWV Lic 942
URL:https://behmsauction.com/auction/collectibles-online-auction/
LOCATION:37 WILLOW LANE\, WHEELING\, WV\, 37 Willow lane\, Wheeling\, WV\, 26003\, United States
ORGANIZER;CN="Behm's Auction and Real Estate":MAILTO:behmsonline@gmail.com
END:VEVENT
END:VCALENDAR