BEGIN:VCALENDAR
VERSION:2.0
PRODID:-//Behm&#039;s Auction - ECPv6.15.17//NONSGML v1.0//EN
CALSCALE:GREGORIAN
METHOD:PUBLISH
X-WR-CALNAME:Behm&#039;s Auction
X-ORIGINAL-URL:https://behmsauction.com
X-WR-CALDESC:Events for Behm&#039;s Auction
REFRESH-INTERVAL;VALUE=DURATION:PT1H
X-Robots-Tag:noindex
X-PUBLISHED-TTL:PT1H
BEGIN:VTIMEZONE
TZID:UTC
BEGIN:STANDARD
TZOFFSETFROM:+0000
TZOFFSETTO:+0000
TZNAME:UTC
DTSTART:20250101T000000
END:STANDARD
END:VTIMEZONE
BEGIN:VEVENT
DTSTART;TZID=UTC:20260221T080000
DTEND;TZID=UTC:20260411T100000
DTSTAMP:20260423T190557
CREATED:20260221T005423Z
LAST-MODIFIED:20260221T011748Z
UID:10000034-1771660800-1775901600@behmsauction.com
SUMMARY:Waynesburg Home
DESCRIPTION:EVA STEPHENSON ESTATE  \nREAL ESTATE AUCTION \n1560 6TH STREET\, WAYNESBURG\, PA \nSATURDAY\, APRIL 11\, 10:00 AM \nThis property will be sold BY live auction on location\, and Internet bidding will be offered at behmsonlineauction.hibid.com \nThe home offers: 3 Bedrooms- Living Room/ Dining COMBINATION Room- Full Kitchen with APPLIANCES and a FULL Bathroom \nDownstairs has a large Family Room with Fireplace\, Sliding Glass Doors that leads to the LARGE LEVEL backyard. Also\, downstairs is a Laundry Room with Kenmore Washer\, Electric Dryer. Home has an Air Temp Gas Furnace\, Trane XL 1200 Heat Pump\, Reliance Electric Water Heater and LARGE OVER-SIZED  1 car Garage. \nTHIS HOME OFERS so many positive features and is a great location in the heart of Waynesburg that will suit a variety of possible home buyers. \n  \nTerms are posted online! \nTO VIEW THE ENTIRE CATALOG\, PICTURES & MORE INFORMATION REGISTER AT BEHMSONLINEAUCTION.HIBID.COM  \n  \nBEHM’S AUCTION & REAL ESTATE SERVICES\, LLC \nAuctioneers of Real Estate\, Estates & Personal Property \nJim Behm\, Broker-Auctioneer\, CAI\, CES   \nPA Lic AU 3338 
URL:https://behmsauction.com/auction/waynesburg-home/
LOCATION:1560 6th St Waynesburg\, 1560 6th St\, Waynesburg\, PA\, 15370\, United States
ORGANIZER;CN="Behm's Auction and Real Estate":MAILTO:behmsonline@gmail.com
END:VEVENT
BEGIN:VEVENT
DTSTART;TZID=UTC:20260208T080000
DTEND;TZID=UTC:20260211T180000
DTSTAMP:20260423T190557
CREATED:20260208T145047Z
LAST-MODIFIED:20260208T145444Z
UID:10000032-1770537600-1770832800@behmsauction.com
SUMMARY:Online Estate - Waynesburg PA
DESCRIPTION:EVA STEPHENSON ESTATE AUCTION \nONLINE ONLY  \n1560 6TH STREET\, WAYNESBURG\, PA \nPREVIEW: FEB 9 from 2-4 PM \nAUCTION CLOSES: WEDNESDAY\, FEB 11 at 6:00 PM with a soft closing of lots in a timed fashion.  \nPICK-UP: THURSDAY\, FEB 12 from 8:00 AM-12:00 PM NOON \nOnline bidding:  behmsonlineauction.hibid.com \nCatalogued lots include the following: Bedroom and Living Room Furniture- Oriental Wood Base Glass Top Dining Table- Oriental Wall Decor- Costume Jewelry – Candles & Accessories-Glassware- Russell Wright Dinnerware- Household Decor- Bed Linen- Dry Goods- Kitchen Ware- and many other catalogued lots from this super clean home. \nAUCTIONEERS NOTE: THIS HOME WILL BE SOLD BY AUCTION ON APRIL 11! DON’T MISS AN OPPORTUNITY TO BUY THIS OUTSTANDING HOME! \nTerms are posted online! \nTO VIEW THE ENTIRE CATALOG\, PICTURES & MORE INFORMATION REGISTER AT BEHMSONLINEAUCTION.HIBID.COM  \n  \nBEHM’S AUCTION & REAL ESTATE SERVICES\, LLC \nAuctioneers of Real Estate\, Estates & Personal Property \nJim Behm\, Broker-Auctioneer\, CAI\, CES   \nPA Lic AU3338  
URL:https://behmsauction.com/auction/online-estate-waynesburg-pa/
LOCATION:1560 6th St Waynesburg\, 1560 6th St\, Waynesburg\, PA\, 15370\, United States
ORGANIZER;CN="Behm's Auction and Real Estate":MAILTO:behmsonline@gmail.com
END:VEVENT
END:VCALENDAR