BEGIN:VCALENDAR
VERSION:2.0
PRODID:-//Behm&#039;s Auction - ECPv6.15.17//NONSGML v1.0//EN
CALSCALE:GREGORIAN
METHOD:PUBLISH
X-ORIGINAL-URL:https://behmsauction.com
X-WR-CALDESC:Events for Behm&#039;s Auction
REFRESH-INTERVAL;VALUE=DURATION:PT1H
X-Robots-Tag:noindex
X-PUBLISHED-TTL:PT1H
BEGIN:VTIMEZONE
TZID:UTC
BEGIN:STANDARD
TZOFFSETFROM:+0000
TZOFFSETTO:+0000
TZNAME:UTC
DTSTART:20240101T000000
END:STANDARD
END:VTIMEZONE
BEGIN:VEVENT
DTSTART;TZID=UTC:20260204T180000
DTEND;TZID=UTC:20260219T180000
DTSTAMP:20260423T174628
CREATED:20260208T143254Z
LAST-MODIFIED:20260208T144310Z
UID:10000031-1770228000-1771524000@behmsauction.com
SUMMARY:Online Estate Auction
DESCRIPTION:LARGE ESTATE AUCTION \nONLINE ONLY  \n311 BIG GRAVE CREEK ROAD\, MOUNDSVILLE\, WV \nPREVIEW: FEB 17 from 2-4 PM \nAUCTION CLOSES: THURSDAY\, FEB 19 at 6:00 PM with a soft closing of lots in a timed fashion.  \nPICK-UP: FRIDAY\, FEB 20 from 8:00 AM-12:00 PM NOON \nOnline bidding:  behmsonlineauction.hibid.com \nStoneware pcs. Wheeling Stenciled 2 Gallon jug\, 3 Stripe small Harvest Jug – 5 x 9 1/2 48 Star American Flag – – Radio Testing Equipment & parts- Glassware- Hoosier style 2 pc. Cabinets – Blue & Clear Mason Jars –  NIB Wall Mirrors –  NOS Tub Surrounds – Tools – Reloading items & gun related items 1/4″ Plywood Sheets –  Pottery Kiln – CB Radios & Accessories – Cream Separator & Parts – NIB dog ramp-NIB Einhell Trimmers – Box Lots – Lawn Sweep- Craftsman Riding mower -Push Plows- NIB Cherry Jewelry Armoire – Pipe Threading items- Proto 3 pc. Rolling Toolbox – Craftsman Rear Tine Tiller- Craftsman Air Compressor – Kick n Go scooter and many more Catalogued lots \nTerms are posted online! \nTO VIEW THE ENTIRE CATALOG\, PICTURES & MORE INFORMATION REGISTER AT BEHMSONLINEAUCTION.HIBID.COM  \n\n		\n		\n			\n				\n			\n			\n				\n			\n			\n				\n			\n			\n				\n			\n			\n				\n			\n			\n				\n			\n			\n				\n			\n			\n				\n			\n			\n				\n			\n			\n				\n			\n			\n				\n			\n			\n				\n			\n			\n				\n			\n			\n				\n			\n			\n				\n			\n			\n				\n			\n			\n				\n			\n			\n				\n			\n			\n				\n			\n			\n				\n			\n			\n				\n			\n			\n				\n			\n			\n				\n			\n			\n				\n			\n		\n\nBEHM’S AUCTION & REAL ESTATE SERVICES\, LLC \nAuctioneers of Real Estate\, Estates & Personal Property \nJim Behm\, Broker-Auctioneer\, CAI\, CES   \nWV Lic 942 
URL:https://behmsauction.com/auction/online-estate-auction-4/
LOCATION:311 Big Grave Creek\, 311 Big Grave Creek Rd\, Moundsville\, 26041\, United States
ORGANIZER;CN="Behm's Auction and Real Estate":MAILTO:behmsonline@gmail.com
END:VEVENT
BEGIN:VEVENT
DTSTART;TZID=UTC:20260101T080000
DTEND;TZID=UTC:20260115T180000
DTSTAMP:20260423T174628
CREATED:20260105T041824Z
LAST-MODIFIED:20260121T150812Z
UID:10000028-1767254400-1768500000@behmsauction.com
SUMMARY:Estate Auction - Coins Guns & Jewelry
DESCRIPTION:LARGE ESTATE AUCTION \nINTERNET ONLY  \n311 BIG GRAVE CREEK ROAD\, MOUNDSVILLE\, WV \nPREVIEW: JAN 13 from 2-4 PM \nAUCTION CLOSES: THURSDAY JAN 15 at 6:00 PM with a soft closing of lots in a timed fashion.  \nOnline bidding:  behmsonlineauction.hibid.com \nTO VIEW THE ENTIRE CATALOG\, PICTURES & MORE INFORMATION REGISTER AT BEHMSONLINEAUCTION.HIBID.COM  \nTHIS AUCTION IS FROM THE HOME OF THE LATE DONNA P. ISSOS FROM WHEELING AND ADDITION FROM AN OLDER OHIO VALLY COLLECTOR THAT HAS PASSED AWAY AND BEHMS AUCTION AND REAL ESTATE SERVICES HAS BEEN DIRECTED TO SELL THE FOLLOWING ITEMS WITH ADDITIONS: \nLARGE COIN COLLECTION- GUNS – COSTUME JEWELRY – LINEN ITEMS – AND COLLECTIBLES \nSome of the over 400 Catalogued Lots include: Silver Coins (Quarters\, Dimes\, Peace & Morgan Dollars\, Kennedy\, Franklin & Walking Liberty Half Dollars)\, Silver Certificates\, $ 2.00 bills\, Pennies\, Eisenhower Dollars\, and others.  Handguns\, Rifles\, Shotguns\, & Holsters – Estate / Costume Jewelry – Table Linen- Crocheted Doilies & Linen- Scarves- Hankies- & other pcs. – Glassware – Box Lots – Nascar Items – NIB Air Purifiers – Paper Shredder – 3D Printer and other items \n  \nBEHM’S AUCTION & REAL ESTATE SERVICES\, LLC \nAuctioneers of Real Estate\, Estates & Personal Property \nJim Behm\, Broker-Auctioneer\, CAI\, CES   \nWV Lic 942  
URL:https://behmsauction.com/auction/large-estate-auction/
LOCATION:311 Big Grave Creek\, 311 Big Grave Creek Rd\, Moundsville\, 26041\, United States
ORGANIZER;CN="Behm's Auction and Real Estate":MAILTO:behmsonline@gmail.com
END:VEVENT
BEGIN:VEVENT
DTSTART;TZID=UTC:20251208T080000
DTEND;TZID=UTC:20260115T180000
DTSTAMP:20260423T174628
CREATED:20251211T030601Z
LAST-MODIFIED:20260121T150845Z
UID:10000027-1765180800-1768500000@behmsauction.com
SUMMARY:
DESCRIPTION:LARGE ESTATE AUCTION \nINTERNET ONLY  \n311 BIG GRAVE CREEK RD\, MOUNDSVILLE\, WV \n  \nPREVIEW: DEC 16 from 2-4 PM \nAUCTION CLOSES: THURSDAY DEC 18 at 6:00 PM with a soft closing of lots in a timed fashion. \nPICK UP: Dec 5 from 7:00 AM to 1:00 PM  \nOnline bidding:  behmsonlineauction.hibid.com \nTO VIEW THE ENTIRE CATALOG\, PICTURES & MORE INFORMATION REGISTER AT BEHMSONLINEAUCTION.HIBID.COM  \nLARGE COLLECTION OF COSTUME JEWELRY-LOCAL AND REGIONAL GLASS WARE ITEMS -LINENS-SCARVES-EMBROIDERY ITEMS-SEVERAL SMALL AND SHOW CASE COLLECTIBLES-FURNITURE- NEW AND OLDER CHRISTMAS DÉCOR-HOME THEATER SURROUND SOUND -FOOTBALL JERSEYS- HOUSEHOLD-INDUSTRIAL ELECTRICAL BOXES-PASLODE NAILERS WITH CASES-SEVERAL BOXES OF GLASSWARE \n  \nBEHM’S AUCTION & REAL ESTATE SERVICES\, LLC \nAuctioneers of Real Estate\, Estates & Personal Property \nJim Behm\, Broker-Auctioneer\, CAI\, CES     \nLicensed and Bonded In Favor of the State of Ohio
URL:https://behmsauction.com/auction/896/
LOCATION:311 Big Grave Creek\, 311 Big Grave Creek Rd\, Moundsville\, 26041\, United States
ORGANIZER;CN="Behm's Auction and Real Estate":MAILTO:behmsonline@gmail.com
END:VEVENT
BEGIN:VEVENT
DTSTART;TZID=UTC:20251101T080000
DTEND;TZID=UTC:20251127T180000
DTSTAMP:20260423T174628
CREATED:20251110T142037Z
LAST-MODIFIED:20251114T142743Z
UID:10000024-1761984000-1764266400@behmsauction.com
SUMMARY:Affordable Home Improvements Auction
DESCRIPTION:LARGE INTERNET ONLY AUCTION \nFor The Owner of Affordable Home Improvements from Tridelphia\, WV with Additions \n311 Big Grave Creek Road\, MOUNDSVILLE\, WV \n  \nPREVIEW: NOV 25 from 2-4 PM \nAUCTION CLOSES: THURSDAY NOV 27 at 6:00 PM with a soft closing of lots in a timed fashion. \nPICK UP: Nov 28 from 7:00 AM to 12:00 PM Noon \nOnline bidding:  behmsonlineauction.hibid.com \nTO VIEW THE ENTIRE CATALOG\, PICTURES & MORE INFORMATION REGISTER AT BEHMSONLINEAUCTION.HIBID.COM  \nTHIS IS ONLY A HIGHLIGHTED LISTING OF ITEMS: \nFORD TRUCKS-LARGE GUN COLLECTION-FOUR WHEELERS-NEW HOLLAND LAWN TRACTOR-HUNTING AND SHOOTING ITEMS-CONSTRUCTION TOOLS AND EQUIPMENT-HOUSEHOLD AND COLLECTIBLES \n  \nBEHM’S AUCTION & REAL ESTATE SERVICES\, LLC \nAuctioneers of Real Estate\, Estates & Personal Property \nJim Behm\, Broker-Auctioneer\, CAI\, CES    WV Lic 942
URL:https://behmsauction.com/auction/affordable-home-improvements-auction/
LOCATION:311 Big Grave Creek\, 311 Big Grave Creek Rd\, Moundsville\, 26041\, United States
ORGANIZER;CN="Behm's Auction and Real Estate":MAILTO:behmsonline@gmail.com
END:VEVENT
BEGIN:VEVENT
DTSTART;TZID=UTC:20251009T080000
DTEND;TZID=UTC:20251023T180000
DTSTAMP:20260423T174628
CREATED:20251012T170308Z
LAST-MODIFIED:20251012T170308Z
UID:10000021-1759996800-1761242400@behmsauction.com
SUMMARY:Large Internet Auction
DESCRIPTION:LARGE INTERNET ONLY AUCTION \n311 Big Grave Creek Road\, Moundsville\, WV \nPREVIEW: OCT 21 from 2-4 PM \nAUCTION CLOSES: THURSDAY OCT 23 at 6:00 PM with a soft closing of lots in a timed fashion. \nPICK UP: Oct 24 from 7:00 AM to 12:00 PM Noon \nOnline bidding:  behmsonlineauction.hibid.com \nTO VIEW THE ENTIRE CATALOG\, PICTURES & MORE INFORMATION REGISTER AT BEHMSONLINEAUCTION.HIBID.COM  \n\n		\n		\n			\n				\n			\n			\n				\n			\n			\n				\n			\n			\n				\n			\n			\n				\n			\n			\n				\n			\n			\n				\n			\n			\n				\n			\n			\n				\n			\n			\n				\n			\n			\n				\n			\n			\n				\n			\n			\n				\n			\n			\n				\n			\n			\n				\n			\n			\n				\n			\n			\n				\n			\n			\n				\n			\n		\n\nAudio -Visual equipment -Record Albums & 45’s – Costume Jewelry- Mens/ Womens clothing & Footwear(  new ) -Outerwear- Crafting & Sewing items-  Heat Press- Grommet Press – Household- Personal Care items -Clothing Displays- Tools- NIc Nacs- Seiko Wall Clock – Small Furniture items- Outdoor Furniture & Hand Tools- 28′ Ext. Ladder- Dyson Cordless Stik Vac.- N Gauge train pcs.and other catalogued lots. \nFOR MORE INFORMATION: EMAIL BEHMSONLINE@GMAIL.COM OR BEHMS ONLINE AUCTION FACEBOOK PAGE \n\nBEHM’S AUCTION & REAL ESTATE SERVICES\, LLC \nAuctioneers of Real Estate\, Estates & Personal Property \nJim Behm\, Broker-Auctioneer\, CAI\, CES    WV Lic 942
URL:https://behmsauction.com/auction/large-internet-auction-3/
LOCATION:311 Big Grave Creek\, 311 Big Grave Creek Rd\, Moundsville\, 26041\, United States
ORGANIZER;CN="Behm's Auction and Real Estate":MAILTO:behmsonline@gmail.com
END:VEVENT
BEGIN:VEVENT
DTSTART;TZID=UTC:20250901T080000
DTEND;TZID=UTC:20250911T180000
DTSTAMP:20260423T174628
CREATED:20250904T125546Z
LAST-MODIFIED:20250904T125546Z
UID:10000013-1756713600-1757613600@behmsauction.com
SUMMARY:Online Estate Auction
DESCRIPTION:ADAM WEBB ESTATE AUCTION \nINTERNET ONLY  \nRIFLES-SHOTGUNS-HANDGUNS-AMMO-GLASSWARE-TOOLS-KNIVES-COLLECTIBLES-ANTIQUES \n311 BIG GRAVE CREEK ROAD\, MOUNDSVILLE\, WV \n  \nPREVIEW: SEPT 9 from 2-4 PM \nAUCTION CLOSES: THURSDAY SEPT 11 at 6:00 PM with a soft closing of lots in a timed fashion. \nPICK UP: Sept 12 from 7:00 AM to 12:00 PM (NOON) \nOnline bidding:  behmsonlineauction.hibid.com \nTO VIEW THE ENTIRE CATALOG\, PICTURES & MORE INFORMATION REGISTER AT BEHMSONLINEAUCTION.HIBID.COM  \nOVER 35 RIFLES- SHOTGUNS- HANDGUNS FROM WINCHESTER\, MARLIN\, STEVENS\, REMINGTON\, NEW ENGLAND\, SPRINGFIELD\, MAUSER\, RUGER\, J.C. HIGGENS\, J. STEVENS H&R\, AND OTHERS – SEVERAL BOXES OF AMMO- GLASSWARE – ENAMELWARE- KNIVES- BOTTLES – STONEWARE PCS. WHEELING WV JAR – MILK BOTTLES – SMALL POWER AND HAND TOOLS -BELT BUCKLES- MILITARY ITEMS- STIHL CHAINSAW- WELDER – OUTDOOR HAND TOOLS- TRUCK TOOL BOXES- AND OTHER CATALOGUED ITEMS \n  \nFOR MORE INFORMATION: EMAIL BEHMSONLINE@GMAIL.COM OR BEHMS ONLINE AUCTION FACEBOOK PAGE \n  \nBEHM’S AUCTION & REAL ESTATE SERVICES\, LLC \nAuctioneers of Real Estate\, Estates & Personal Property \nJim Behm\, Broker-Auctioneer\, CAI\, CES    WV Lic 942
URL:https://behmsauction.com/auction/online-estate-auction-2/
LOCATION:311 Big Grave Creek\, 311 Big Grave Creek Rd\, Moundsville\, 26041\, United States
ORGANIZER;CN="Behm's Auction and Real Estate":MAILTO:behmsonline@gmail.com
END:VEVENT
BEGIN:VEVENT
DTSTART;TZID=UTC:20250807T180000
DTEND;TZID=UTC:20250807T180000
DTSTAMP:20260423T174628
CREATED:20250803T154632Z
LAST-MODIFIED:20250803T154935Z
UID:10000008-1754589600-1754589600@behmsauction.com
SUMMARY:Large Internet Auction
DESCRIPTION:LARGE INTERNET ONLY AUCTION \n311 Big Grave Creek Road\, Moundsville\, WV \n  \nPREVIEW: AUGUST 5 from 2-4 PM \nAUCTION CLOSES: THURSDAY AUGUST 7 at 6:00 PM with a soft closing of lots in a timed fashion. \nPICK UP: August 11 from 8:00 AM to 12:00 PM  \nOnline bidding:  behmsonlineauction.hibid.com \nTO VIEW THE ENTIRE CATALOG\, PICTURES & MORE INFORMATION REGISTER AT BEHMSONLINEAUCTION.HIBID.COM  \nVIDEO GAMING – BARBIES – MATERIAL- JEWELRY- SPORTS CARDS- TOYS  \n500 +Catalogued lots of Costume Jewelry – Various Sports Card Lots- Media – Video Games-& Consoles- Glassware- Several Lots of Record Albums – Seasonal items – Kids Toys- Clothing items – Barbie Dolls -Household – Shoes- Gas Free standing heater- Furniture – Musical items- Storage Totes- Sewing Material – Toys and many other Catalogued Lots \nMark your calendar for this auction and do not miss it! \nFOR MORE INFORMATION: EMAIL BEHMSONLINE@GMAIL.COM OR BEHMS ONLINE AUCTION FACEBOOK PAGE \nBEHM’S AUCTION & REAL ESTATE SERVICES\, LLC \nAuctioneers of Real Estate\, Estates & Personal Property \nJim Behm\, Broker-Auctioneer\, CAI\, CES    WV Lic 942
URL:https://behmsauction.com/auction/large-internet-auction-2/
LOCATION:311 Big Grave Creek\, 311 Big Grave Creek Rd\, Moundsville\, 26041\, United States
ORGANIZER;CN="Behm's Auction and Real Estate":MAILTO:behmsonline@gmail.com
END:VEVENT
BEGIN:VEVENT
DTSTART;TZID=UTC:20250701T080000
DTEND;TZID=UTC:20250710T180000
DTSTAMP:20260423T174628
CREATED:20250702T002232Z
LAST-MODIFIED:20250702T003454Z
UID:10000004-1751356800-1752170400@behmsauction.com
SUMMARY:Large Internet Auction
DESCRIPTION:LARGE INTERNET ONLY AUCTION \n311 Big Grave Creek Road\, Moundsville\, WV  \nPREVIEW: JULY 8 from 2-4 PM \nAUCTION CLOSES: THURSDAY JULY 10 at 6:00 PM with a soft closing of lots in a timed fashion. \nPICK UP: July 11 from 8:00 AM to 12:00 PM  \nOnline bidding:  behmsonlineauction.hibid.com \nTO VIEW THE ENTIRE CATALOG\, PICTURES & MORE INFORMATION REGISTER AT BEHMSONLINEAUCTION.HIBID.COM  \n  \n 400 +Catalogued lots of Costume Jewelry – Various Sports Card Lots- Trading Card Lots – $1 Silver Certificates – Foreign Coins – Media – Video Games- Glassware- Several Lots of Record Albums – New Seasonal items – Kids Toys – Clothing items – New Items AND other Catalogued Lots.   \nMark your calendar for this auction and do not miss it! \nFOR MORE INFORMATION: EMAIL BEHMSONLINE@GMAIL.COM OR BEHMS ONLINE AUCTION FACEBOOK PAGE \nBEHM’S AUCTION & REAL ESTATE SERVICES\, LLC \nAuctioneers of Real Estate\, Estates & Personal Property \nJim Behm\, Broker-Auctioneer\, CAI\, CES    WV Lic 942
URL:https://behmsauction.com/auction/large-internet-auction/
LOCATION:311 Big Grave Creek\, 311 Big Grave Creek Rd\, Moundsville\, 26041\, United States
ATTACH;FMTTYPE=image/webp:https://behmsauction.com/wp-content/uploads/2025/07/img-67.webp
ORGANIZER;CN="Behm's Auction and Real Estate":MAILTO:behmsonline@gmail.com
END:VEVENT
END:VCALENDAR