BEGIN:VCALENDAR
VERSION:2.0
PRODID:-//Behm&#039;s Auction - ECPv6.15.17//NONSGML v1.0//EN
CALSCALE:GREGORIAN
METHOD:PUBLISH
X-WR-CALNAME:Behm&#039;s Auction
X-ORIGINAL-URL:https://behmsauction.com
X-WR-CALDESC:Events for Behm&#039;s Auction
REFRESH-INTERVAL;VALUE=DURATION:PT1H
X-Robots-Tag:noindex
X-PUBLISHED-TTL:PT1H
BEGIN:VTIMEZONE
TZID:UTC
BEGIN:STANDARD
TZOFFSETFROM:+0000
TZOFFSETTO:+0000
TZNAME:UTC
DTSTART:20240101T000000
END:STANDARD
END:VTIMEZONE
BEGIN:VEVENT
DTSTART;TZID=UTC:20260221T080000
DTEND;TZID=UTC:20260221T170000
DTSTAMP:20260423T174440
CREATED:20260221T011604Z
LAST-MODIFIED:20260221T011643Z
UID:10000035-1771660800-1771693200@behmsauction.com
SUMMARY:Donna Lue Whipkey Estate Online Auction 3
DESCRIPTION:Lots will begin to close on Thursday March 5th 2026 starting with lot 1 at 6 pm. WITH A SOFT CLOSING – ” ANY ITEM THAT RECEIVES A BID WITHIN ONE MINUTE OF CLOSING WILL EXTEND BIDDING FOR AN ADDITIONAL MINUTE. AS SUCH\, A LOT MAY REMAIN OPEN FOR BIDDING WHILE OTHER LOTS LISTED AFTER IT WILL CONTINUE TO CLOSE UNLESS BIDS ARE PLACED ON THEM AS OTHER LOTS CONTINUE TO CLOSE.. \n\n\nDONNA LUE WHIPKEY ESTATE ONLINE AUCTION # 3 Some of the highlights of the Donna Whipkey Estate Online Auction # 3 include; Plastic & Steel Milk Crates- Snow Sleds – Collector Pepsi & other Pop Bottles- Pepsi & Coca Cola Wood Bottle Crates- Chest Freezers -Live Traps – 18″ School / Church Bell w/ Yoke & Clapper – Craftsman Air Compressor- Craftsman Wood Chipper- Wizard & MTD Tillers – GrindStone- NuTone Whole House Vacuum Cleaner System – Floor to Ceiling Jacks – Electric & Air Tools – Hand Tools – Outdoor Hand Tools – Galvanized Pcs. – Spring Chairs – ChainSaws – Box Lots – Pull Behind Electric Cement MIxer -Collectible Paper Items – Metal & Wood Cabinets – Furniture- Hoosier like Kitchen Cabinet – Butterfly Porcelain Enamel Table- Books – Hardware along with many more of over 300 catalogued lots. Preview is Tuesday March 3rd 6th from 2 pm to 4 pm. at the home on Wayman Ridge. Limestone area of Moundsville\, Wv. Directions from Route 250 in Limestone\, Wv. Turn Right / Left onto Wayman Ridge app. 3/10 mile and watch for Behms Auction signs. To Register & Bid go to Behmsonlineauction.hibid.com Lots will begin to close on Thursday March 5th 2026 starting with lot 1 at 6 pm. WITH A SOFT CLOSING – ” ANY ITEM THAT RECEIVES A BID WITHIN ONE MINUTE OF CLOSING WILL EXTEND BIDDING FOR AN ADDITIONAL MINUTE. AS SUCH\, A LOT MAY REMAIN OPEN FOR BIDDING WHILE OTHER LOTS LISTED AFTER IT WILL CONTINUE TO CLOSE UNLESS BIDS ARE PLACED ON THEM AS OTHER LOTS CONTINUE TO CLOSE. 1 Day pickup only ( no other days for pickup are available ) – on Friday March 6th 2026 from 7 am to 1 pm at the home on Waymans Ridge \, Moundsville\, Wv. If you have any questions\, please email behmsonline@gmail.com. Shipping is available on items with a truck by the description.
URL:https://behmsauction.com/auction/donna-lue-whipkey-estate-online-auction-3/
LOCATION:320 Waymans Ridge\, 320 Waymans Ridge\, Moundsville\, WV\, 26041\, United States
ORGANIZER;CN="Behm's Auction and Real Estate":MAILTO:behmsonline@gmail.com
END:VEVENT
BEGIN:VEVENT
DTSTART;TZID=UTC:20260208T080000
DTEND;TZID=UTC:20260331T180000
DTSTAMP:20260423T174440
CREATED:20260208T150201Z
LAST-MODIFIED:20260221T010346Z
UID:10000033-1770537600-1774980000@behmsauction.com
SUMMARY:Donna Whipkey Est. Real Estate Auction
DESCRIPTION:THIS PROPERTY WILL BE SOLD BY LIVE/ ONSITE BIDDING ALONG WITH ONLINE BIDDING AT BEHMSONLINEAUCTION.HIBID.COM. ON AT THE START OF THE LIVE AUCTION\, THE HIGHEST ONLINE BID WILL BE THE OPENING BID ON THE PROPERTY WITH THE BIDDING PROCESS STARTED. ONCE THE HIGHEST BID EITHER LIVE OR ONLINE\, THE AUCTIONEER WILL TAKE A RECESS TO CONFER WITH THE EXECUTOR TO DETERMINE IF THE HIGHEST BID OBTAINED IS ACCEPTABLE. THE AUCTIONEER MAY COME BACK AND REOPEN THE BIDDING. THIS PROPERTY DOES SELL WITH EXECUTOR’S APPROVAL. PLEASE REFER TO THE TERMS AND CONDITION FOR MORE DETAILS. LIVE BIDDERS WILL BE CHARGED A 10% BUYER’S PREMIUM- ONLINE/ INTERNET BIDDERS WILL BE CHARGED A 13% BUYERS PREMIUM. ** DATE IS SUBJECT TO CHANGE FOR MORE INFORMATION GO TO BEHMSAUCTION.COM- TO REGISTER & BID GO TO WWW.BEHMSONLINEAUCTION.HIBID.COM JIM BEHM AUCTIONEER- BROKER. 304 845 2666 \n\n\nDonna Whipkey Estate Real Estate Auction w/ LIVE / ONSITE BIDDING & internet bidding MARCH 31ST 2026 @ 6 PM LOCATED APP. 3/10 MILES OFF OF ROUTE 250 ( 320 Waymans Ridge ) OUTSIDE OF LIMESTONE\, WV IS THIS WELL MAINTAINED 3 BEDROOM- 2 BATH RANCH STYLE HOME W/ 2 CAR ATTACHED GARAGE & OUTBUILDING ALONG WITH UNLIMITED POTENTIAL FULL BASEMENT. UPON ENTERING THE HOME YOU THROUGH THE FOYER YOU ENTER THE FULL LIVING ROOM. DOWN THE HALL ARE 2 CLOSETS\, 2 BEDROOMS\,BATHROOM & MASTER BEDROOM W/ BATHROOM WHICH FEATURES COMMODE\, SINK AND FULL SHOWER. DINING ROOM\, BEAUTIFUL KITCHEN W/ REFRIGERATOR\, ELECTRIC STOVE & BUILT IN DISHWASHER. BEAUTIFUL OAK CABINETS W/ DOUBLE DOOR PANTRY AND ISLAND BASE CABINET. THROUGH THE KITCHEN IS A SUNROOM/ MUDROOM W/ ACCESS TO THE 2 CAR GARAGE. THE FULL UNFINISHED BASEMENT IS PARTITIONED INTO A LIVING ROOM\, FULL BATH\, BEDROOM\, STORAGE ROOM\, KITCHEN\, DEN/ FAMILY ROOM \, 1 CAR GARAGE/ WORKSHOP W/ OVERHEAD GARAGE DOOR. AIRTEMP GAS FURNACE\, NEWER BRADFORD WHITE 40 GALLON GAS WATER HEATER. 2 ENTRANCES TO THE BASEMENT. HOME HAS A MODERN METAL ROOF. THERE IS A STORAGE BUILDING ON THE LOWER SIDE OF THE PROPERTY W/ OVERHEAD GARAGE DOOR. OPEN HOUSE WILL BE ON TUESDAY MARCH 10TH & MARCH 24TH FROM 430 PM TO 6 PM THIS PROPERTY WILL BE SOLD BY LIVE/ ONSITE BIDDING ALONG WITH ONLINE BIDDING AT BEHMSONLINEAUCTION.HIBID.COM. AT THE START OF THE LIVE AUCTION ON TUESDAY MARCH 31ST @ 6 PM\, THE HIGHEST ONLINE BID WILL BE THE OPENING BID ON THE PROPERTY WITH THE BIDDING PROCESS STARTED. ONCE THE HIGHEST BID EITHER LIVE OR ONLINE\, THE AUCTIONEER WILL TAKE A RECESS TO CONFER WITH THE EXECUTOR TO DETERMINE IF THE HIGHEST BID OBTAINED IS ACCEPTABLE. THE AUCTIONEER MAY COME BACK AND REOPEN THE BIDDING. THIS PROPERTY DOES SELL WITH EXECUTOR’S APPROVAL. PLEASE REFER TO THE TERMS AND CONDITION FOR MORE DETAILS. LIVE BIDDERS WILL BE CHARGED A 10% BUYER’S PREMIUM- ONLINE/ INTERNET BIDDERS WILL BE CHARGED A 13% BUYERS PREMIUM. ** DATE IS SUBJECT TO CHANGE FOR MORE INFORMATION GO TO BEHMSAUCTION.COM- TO REGISTER & BID GO TO WWW.BEHMSONLINEAUCTION.HIBID.COM JIM BEHM AUCTIONEER- BROKER. 304 845 2666
URL:https://behmsauction.com/auction/donna-whipkey-est-real-estate-auction/
LOCATION:320 Waymans Ridge\, 320 Waymans Ridge\, Moundsville\, WV\, 26041\, United States
ORGANIZER;CN="Behm's Auction and Real Estate":MAILTO:behmsonline@gmail.com
END:VEVENT
BEGIN:VEVENT
DTSTART;TZID=UTC:20251024T080000
DTEND;TZID=UTC:20251106T180000
DTSTAMP:20260423T174440
CREATED:20251024T030452Z
LAST-MODIFIED:20251024T030520Z
UID:10000023-1761292800-1762452000@behmsauction.com
SUMMARY:Donna Whipkey Estate
DESCRIPTION:DONNA WHIPKEY ESTATE \nINTERNET ONLY \n320 WAYMANS RIDGE\, MOUNDSVILLE\, WV \n  \nPREVIEW: NOV 4 from 2-4 PM \nAUCTION CLOSES: THURSDAY NOV 6 at 6:00 PM with a soft closing of lots in a timed fashion. \nPICK UP: Nov 7 from 7:00 AM to 1:00 PM Noon \nOnline bidding:  behmsonlineauction.hibid.com \nTO VIEW THE ENTIRE CATALOG\, PICTURES & MORE INFORMATION REGISTER AT BEHMSONLINEAUCTION.HIBID.COM  \nTHIS WILL BE THE FIRST OF SEVERAL AUCTIONS FOR THE WHIPKEY ESTATE FROM THIS SUPER CLEAN HOME LOCATED JUST OUTSIDE OF MOUNDSVILLE. IN ADDITION\, WE WILL BE OFFERING THE REAL ESTATE AT A LATER DATE. \nOVER 400+ CATALOGUED LOTS: Fenton \, Fostoria & other Glassware – Hen on Nest Collection – Furniture – Accent Pieces – Collector Bells- Seasonal Items- Electronics- Household & other Catalogued lots. \n  \nBEHM’S AUCTION & REAL ESTATE SERVICES\, LLC \nAuctioneers of Real Estate\, Estates & Personal Property \nJim Behm\, Broker-Auctioneer\, CAI\, CES    WV Lic 942
URL:https://behmsauction.com/auction/donna-whipkey-estate/
LOCATION:320 Waymans Ridge\, 320 Waymans Ridge\, Moundsville\, WV\, 26041\, United States
ORGANIZER;CN="Behm's Auction and Real Estate":MAILTO:behmsonline@gmail.com
END:VEVENT
END:VCALENDAR