BEGIN:VCALENDAR
VERSION:2.0
PRODID:-//Behm&#039;s Auction - ECPv6.15.17//NONSGML v1.0//EN
CALSCALE:GREGORIAN
METHOD:PUBLISH
X-WR-CALNAME:Behm&#039;s Auction
X-ORIGINAL-URL:https://behmsauction.com
X-WR-CALDESC:Events for Behm&#039;s Auction
REFRESH-INTERVAL;VALUE=DURATION:PT1H
X-Robots-Tag:noindex
X-PUBLISHED-TTL:PT1H
BEGIN:VTIMEZONE
TZID:UTC
BEGIN:STANDARD
TZOFFSETFROM:+0000
TZOFFSETTO:+0000
TZNAME:UTC
DTSTART:20240101T000000
END:STANDARD
END:VTIMEZONE
BEGIN:VEVENT
DTSTART;TZID=UTC:20250801T080000
DTEND;TZID=UTC:20250828T120000
DTSTAMP:20260423T185842
CREATED:20250803T153834Z
LAST-MODIFIED:20250803T153834Z
UID:10000007-1754035200-1756382400@behmsauction.com
SUMMARY:Commercial Building Millvale PA
DESCRIPTION:SECURE PARTY\nREAL ESTATE AUCTION\n220 NORTH AVENUE\, MILLVALE BOROUGH\, ALLEGHENY COUNTY\, PA 15209 \nTHIS PROPERTY WILL BE SOLD BY LIVE AUCTION AT THE LOCATION\, AND INTERNET BIDDING WILL BE OFFERED AS WELL.\nOnline bidding: behmsonlineauction.hibid.com\nWE HAVE BEEN COMMISSIONED TO SELL THE FOLLOWING DESCRIBED REAL ESTATE:\n3360 SQ FT COMMERCIAL BUILDING\, CONSISTING OF NEWLY CONSTRUCTED OFFICES\, SHOWROOM\, AND DISPLAY AREA. UPDATED BATHROOMS AND HANDICAP ACCESSIBLE ENTRANCE. 2 COMMERCIAL ROLL-UP OVERHEAD DOORS\, UPDATED ELECTRICAL\, PLUMBING\, AND HEATING. ADDITIONAL DRY STORAGE IS LOCATED IN THE BASEMENT AREA. LOCATED ON ONE OF THE MAIN ROUTES IN MILLVALE BOROUGH. PROPERTY HAS UNLIMITED POTENTIAL FOR OFFICES/BUSINESS AND/OR RENTAL PROPERTY.\nTerms: Posted online. Brokers’ participation is welcome. Brokers must contact Behm’s Auction & Real Estate for more information.\nFor more info and pictures\, please visit: behmsauction.com\, WWW.AUCTIONZIP.COM\, WWW.GOTOAUCTION.COM or Facebook. \nFOR MORE INFORMATION: EMAIL BEHMSONLINE@GMAIL.COM OR BEHMS ONLINE AUCTION FACEBOOK PAGE \nBEHM’S AUCTION & REAL ESTATE SERVICES\, LLC\nAuctioneers of Real Estate\, Estates & Personal Property\nJim Behm\, Broker-Auctioneer\, CAI\, CES PA Lic #AU3338
URL:https://behmsauction.com/auction/commercial-building-millvale-pa/
LOCATION:MIllvale\, 220 North Ave\, Millvale Borough\, PA\, 15209
ORGANIZER;CN="Behm's Auction and Real Estate":MAILTO:behmsonline@gmail.com
END:VEVENT
END:VCALENDAR