BEGIN:VCALENDAR
VERSION:2.0
PRODID:-//Behm&#039;s Auction - ECPv6.15.17//NONSGML v1.0//EN
CALSCALE:GREGORIAN
METHOD:PUBLISH
X-ORIGINAL-URL:https://behmsauction.com
X-WR-CALDESC:Events for Behm&#039;s Auction
REFRESH-INTERVAL;VALUE=DURATION:PT1H
X-Robots-Tag:noindex
X-PUBLISHED-TTL:PT1H
BEGIN:VTIMEZONE
TZID:UTC
BEGIN:STANDARD
TZOFFSETFROM:+0000
TZOFFSETTO:+0000
TZNAME:UTC
DTSTART:20240101T000000
END:STANDARD
END:VTIMEZONE
BEGIN:VEVENT
DTSTART;TZID=UTC:20260204T080000
DTEND;TZID=UTC:20260312T180000
DTSTAMP:20260423T174616
CREATED:20251123T011408Z
LAST-MODIFIED:20260302T010818Z
UID:10000025-1770192000-1773338400@behmsauction.com
SUMMARY:LOVE ESTATE
DESCRIPTION:BETTY LOVE ESTATE AUCTION \nONLINE ONLY \nST. CLAIRSVILLE\, OHIO \nPREVIEW: MARCH 10 from 2-4 PM \nAUCTION CLOSES: THURSDAY\, MARCH 12 at 6:00 PM with a soft closing of lots in a timed fashion. \nPICK-UP: FRIDAY\, MARCH 13 from 7:00 AM-1:00 PM Online bidding: behmsonlineauction.hibid.com \nNumerous Quilts- Quilt Toppers – Sewing Material & Notions – Various Glassware items – Scarves- Table Linen- Crocheted Doilies- Nic Nacs-Blue Mason Jars & other Canning items – Home Decor items- Books-2 Cuckoo Clocks & Brass Clocks – Bedroom Furniture – Trendle Bed – Twin Beds – Floor Lamps – Stoneware items – Galvanized Buckets – Seasonal – 8′ drop pocket Pool Table & Accessories – Metal Storage Racks & many other catalogued lots \n  \nTO VIEW THE ENTIRE CATALOG\, PICTURES & MORE INFORMATION REGISTER AT BEHMSONLINEAUCTION.HIBID.COM \n  \nBEHM’S AUCTION & REAL ESTATE SERVICES\, LLC \nAuctioneers of Real Estate\, Estates & Personal Property \nJim Behm\, Broker-Auctioneer\, CAI\, CES \nLicensed and Bonded in Favor of the State of Ohio
URL:https://behmsauction.com/auction/love-estate-2-lladros-quilts-jewelry/
LOCATION:St Clairsville\, St Clairsville\, OH\, 43950\, United States
ORGANIZER;CN="Behm's Auction and Real Estate":MAILTO:behmsonline@gmail.com
END:VEVENT
BEGIN:VEVENT
DTSTART;TZID=UTC:20251010T080000
DTEND;TZID=UTC:20251016T180000
DTSTAMP:20260423T174617
CREATED:20251010T012107Z
LAST-MODIFIED:20251010T012107Z
UID:10000020-1760083200-1760637600@behmsauction.com
SUMMARY:Internet Auction - Household and Vehicles
DESCRIPTION:LARGE INTERNET ONLY AUCTION \n\n CLAIRSVILLE\, OHIO\n\n  \nPREVIEW: OCT 14 from 2-4 PM \nAUCTION CLOSES: THURSDAY\, OCT 16 at 6:00 PM with a soft closing of lots in a timed fashion. \nPICK UP: Oct 17 from 7:00 AM to 1:00 PM  \nOnline bidding:  behmsonlineauction.hibid.com \nTO VIEW THE ENTIRE CATALOG\, PICTURES & MORE INFORMATION REGISTER AT BEHMSONLINEAUCTION.HIBID.COM  \nBuick LaCrosse Avenir – Ford Transit Van- SEVERAL COUNTRY QUILTS- GLASS WARE- ANTIQUES – COLLECTIBLES- HOUSEHOLD ITEMS AND MUCH MORE \n2019 Buick LaCrosse Avenir\, White – 60962 Miles V6 VVT\, Automatic\, 4 Dr. Sunroof\, Fully Loaded – \n2014 Ford Transit Van- 71\,015 Miles. Seats 6 with removable seats\, sliding doors on both sides- AM/ FM Stereo-and more. \n\n		\n		\n			\n				\n			\n			\n				\n			\n			\n				\n			\n			\n				\n			\n			\n				\n			\n			\n				\n			\n			\n				\n			\n			\n				\n			\n			\n				\n			\n			\n				\n			\n			\n				\n			\n			\n				\n			\n			\n				\n			\n			\n				\n			\n			\n				\n			\n			\n				\n			\n			\n				\n			\n			\n				\n			\n			\n				\n			\n			\n		\n\n\nNumerous Quilts- Sewing Material- Quilt Squares- Ethan Allen Furniture- 4′ Tall Wood Carved Horse –  31 Day Key Wind Wall Clock- Key Wind Gingerbread trim Mantle Clock- Various Glassware items – Sewing Notions – Jars of Buttons- Pyrex Nesting Bowls – Sheets of Uncut 16 $1 & $2 Dollar Bills-Scarves- Table Linen- Crocheted Doilies- Nic Nacs- Costume Jewelry – Towle Sterling Silver Flatware Pcs. – Dining Room Table & 6 Chairs- 2 pc. lighted hutch- Sideboard- Bakers Rack- Numerous pcs.of Lenox- Several Pcs. of Stoneware- Harvest Jugs- Hadlich Wheeling W.Va Harvest Jug – Rodefers Down on the Farm Shadyside Ohio Ketchup Jug & other Stoneware pcs. – Home Decor items – Grandfather Clock – Vtg. Floor Model Stereo System – Rattan & Glass Round Table & 2 Chairs- Vtg. Raggedy Ann & Andy Metal Lunch Box w/ Thermos – Salt & Pepper Shakers – Mexican Items – Brentwood Dogwood China- Several Gold Colored Rings – Vtg. Pittsburgh Pirates Three Rivers Stadium Felt Pennants – Watches – Vtg. Oval Raised Frame Portraits – Books- Record Albums – Craftsman/ Sears 13.5 HP\, 42″ deck Riding Lawn Tractor\, for parts or repair – Honda Push Mower – School Teachers Hand Bells – and many other Catalogued Lots \n\nFOR MORE INFORMATION: EMAIL BEHMSONLINE@GMAIL.COM OR BEHMS ONLINE AUCTION FACEBOOK PAGE \n\nBEHM’S AUCTION & REAL ESTATE SERVICES\, LLC \nAuctioneers of Real Estate\, Estates & Personal Property \nJim Behm\, Broker-Auctioneer\, CAI\, CES    PA Lic AU3338
URL:https://behmsauction.com/auction/internet-auction-household-and-vehicles/
LOCATION:St Clairsville\, St Clairsville\, OH\, 43950\, United States
ORGANIZER;CN="Behm's Auction and Real Estate":MAILTO:behmsonline@gmail.com
END:VEVENT
BEGIN:VEVENT
DTSTART;TZID=UTC:20250602T080000
DTEND;TZID=UTC:20250619T180000
DTSTAMP:20260423T174617
CREATED:20250618T033006Z
LAST-MODIFIED:20250618T042613Z
UID:10000001-1748851200-1750356000@behmsauction.com
SUMMARY:High Personal Property - Online
DESCRIPTION:The 1st lot will begin to close on Thursday June 19th \, 2025 BEGINNING WITH LOT 1 AT 6 PM WITH A SOFT CLOSING – ” ANY ITEM THAT RECEIVES A BID WITHIN ONE MINUTE OF CLOSING WILL EXTEND BIDDING FOR AN ADDITIONAL MINUTE. AS SUCH\, A LOT MAY REMAIN OPEN FOR BIDDING WHILE OTHER LOTS LISTED AFTER IT WILL CONTINUE TO CLOSE UNLESS BIDS ARE PLACED ON THEM AS OTHER LOTS CONTINUE TO CLOSE. 1 Day Pickup is Friday June 20th 2025 from 8 am to 1 pm at the home located at 113 Pine Knoll Terrace\, St. Clairsville\, Ohio \n\nPREVIEW ; Tuesday June 17th from 2 pm to 4 pm 113 Pine Knoll Terrace\, St. Clairsville\, Ohio The 1st lot will begin to close on Thursday June 19th \, 2025 BEGINNING WITH LOT 1 AT 6 PM WITH A SOFT CLOSING – ” ANY ITEM THAT RECEIVES A BID WITHIN ONE MINUTE OF CLOSING WILL EXTEND BIDDING FOR AN ADDITIONAL MINUTE. AS SUCH\, A LOT MAY REMAIN OPEN FOR BIDDING WHILE OTHER LOTS LISTED AFTER IT WILL CONTINUE TO CLOSE UNLESS BIDS ARE PLACED ON THEM AS OTHER LOTS CONTINUE TO CLOSE.\n\n1 Day Pickup is Friday June 20th 2025 from 8 am to 1 pm at the home located at 113 Pine Knoll Terrace\, St. Clairsville\, Ohio\n\nThe High Personal Property Online Auction consists of over 400 Catalogued lots include White Wicker Patio Furniture & other items- Outdoor Patio Furniture- Fostoria American Pattern glass pieces – Nic Nacs- Large & Small Antique Coffee Grinders- Mens & Womens Clothing items & accessories – Corner Cabinets- Everett Piano – Bose Radio – Acorn Stair Chair ( hooked up in working condition ) -Various Table Lights – Wood Bunk Bed Frames- Ridgeway Small Grandfather Clock – Bar Stools – Living Room\, Bedroom\, Dining Room Furniture- Household- Wall Decor – Glassware – Tools – Costume Jewelry – Washer- Electric Dryer Small Kitchen Appliances – – Seasonal Items – Small Hand Tools- Outdoor hand tools- Aluminum Extension ladder- Wood & Glass Gun Cabinet – Wood Rolling Tea Cart – Wolf .223 & 7.62 x 39 boxes of ammo- Scuba items – Homelite Chain Saw- Books – 2 Wheel Dolly – Rubbermaid & Craftsman Outdoor Plastic Storage Boxes & many more catalogued lots.\n\n\nDIRECTIONS:- FROM I-70 WESTBOUND\, TAKE ROUTE 9 EXIT\, TURN RIGHT & IMMEDIATELY RIGHT ON THOMPSON DR.\, LEFT ON HIGH ST.- WATCH FOR BEHMS ONLINE AUCTION SIGNS FROM 1- 70 EASTBOUND – TAKE ROUTE 9 EXIT\, TURN LEFT TOWARDS ST. CLAIRSVILLE- RIGHT ON THOMPSON DR. LEFT ON HIGH ST- BUYER IS RESPONSIBLE FOR DISCONNECTING THE WASHER AND STAIR CHAIR- ITEMS ARE LOCATED ON 1ST & 2ND FLOORS & BASEMENT.
URL:https://behmsauction.com/auction/high-personal-property-online/
LOCATION:St Clairsville\, St Clairsville\, OH\, 43950\, United States
CATEGORIES:Online Auction
ORGANIZER;CN="Behm's Auction and Real Estate":MAILTO:behmsonline@gmail.com
END:VEVENT
END:VCALENDAR